Workbook

Sheet VODOVOD 2
B1: VODOVOD 2
A2: 1. | B2: CEVNI MATERIAL
A3: 1.1. | B3: CEVI
A5: 1.1.4. | B5: Cev NL (LTŽ-DUKTIL) f 100 mm (ISOPAM) | C5: m1 | D5: 13 | F5: =D5*E5 -> 0
A7: 1.2. | B7: FAZONSKI KOSI
A9: 1.2.2. | B9: EU kos f 100 mm | C9: kos | D9: 3 | F9: =D9*E9 -> 0
A11: 1.2.5. | B11: T f 100/100 mm | C11: kos | D11: 1 | F11: =D11*E11 -> 0
A13: 1.2.8. | B13: MMK 22,1/2° f 100 mm | C13: kos | D13: 4 | F13: =D13*E13 -> 0
A15: 1.2.13. | B15: UNIVERZALNA SPOJKA GF tip 3057 f 100 mm | C15: kos | D15: 1 | F15: =D15*E15 -> 0
A17: 1.3. | B17: ARMATURE
A19: 1.3.6. | B19: Zračnik na DN 50 mm, privit v navrtan in privarjen priključek na cev DN 100 mm | C19: kos | D19: 1 | F19: =D19*E19 -> 0
F21: =SUM(F5:F19) -> 0
A23: 2. | B23: MONTAŽNA DELA
A25: 2.1. | B25: Prenos in spuščanje fazonov in armatur do teže 100 kg/kom | C25: kos | D25: 9 | F25: =D25*E25 -> 0
A27: 2.5. | B27: Polaganje in stikovanje cevi NL (LTŽ-DUKTIL) f 100 mm, VRS, toplotno predizolirane. | C27: m1 | D27: 13 | F27: =D27*E27 -> 0
A29: 2.9. | B29: Montaža fazonov na prirobnice | C29: kos | D29: =SUM(D8:D15) -> 9 | F29: =D29*E29 -> 0
A31: 2.10. | B31: Montaža zračnikov na izolirani cevi | C31: kos | D31: 1 | F31: =D31*E31 -> 0
A33: 2.13. | B33: Tlačni preizkus | C33: m1 | D33: 13 | F33: =D33*E33 -> 0
A35: 2.14. | B35: Dezinfekcija cevovoda | C35: m1 | D35: =D33 -> 13 | F35: =D35*E35 -> 0
A37: 2.16. | B37: Drobni in tesnilni material | C37: komp | D37: 1 | F37: =D37*E37 -> 0
F39: =SUM(F25:F38) -> 0
A43: 3. | B43: GRADBENA DELA
A46: 3.2. | B46: Ročni izkop v zemljini III. ktg., ter odmet materiala vsaj 1.00 m od roba izkopa. | C46: m3 | D46: 2 | F46: =D46*E46 -> 0
A49: 3.17. | B49: Premostitveni objekti upoštevani v načrtu kanalizacije! | C49: - | D49: - | F49: =PRODUCT(D49:E49) -> 0
F51: =SUM(F45:F50) -> 0
B54: REKAPITULACIJA
A57: 1. | B57: CEVNI MATERIAL | F57: =F21 -> 0
A59: 2. | B59: MONTAŽNA DELA | F59: =F39 -> 0
A61: 3. | B61: GRADBENA DELA | F61: =F51 -> 0
B64: SKUPAJ: | F64: =F57+F59+F61 -> 0

Sheet VODOVOD 3
B1: VODOVOD 3
A2: 1. | B2: CEVNI MATERIAL
A3: 1.1. | B3: CEVI
A5: 1.1.1. | B5: CevPEHD DN 32/12.5 | C5: m1 | D5: 60 | F5: =D5*E5 -> 0
A7: 1.1.1. | B7: CevPEHD DN 63/12.5 | C7: m1 | D7: 60 | F7: =D7*E7 -> 0
A9: 1.1.3. | B9: Cev NL (LTŽ-DUKTIL) f 80 mm | C9: m1 | D9: 11 | F9: =D9*E9 -> 0
A11: 1.1.3. | B11: Cev NL (LTŽ-DUKTIL) f 100 mm | C11: m1 | D11: 286 | F11: =D11*E11 -> 0
A13: 1.2. | B13: FAZONSKI KOSI
A15: 1.2.1. | B15: EU kos f 80 mm, VRS | C15: kos | D15: 8 | F15: =D15*E15 -> 0
A17: 1.2.1. | B17: EU kos f 100 mm, VRS | C17: kos | D17: 10 | F17: =D17*E17 -> 0
A19: 1.2.4. | B19: FF f 80 mm, L= 400 mm | C19: kos | D19: 1 | F19: =D19*E19 -> 0
A21: 1.2.11. | B21: T f 100/80 mm | C21: kos | D21: 5 | F21: =D21*E21 -> 0
A23: 1.2.18. | B23: FFK 11,1/4° f 100 mm | C23: kos | D23: 3 | F23: =D23*E23 -> 0
A25: 1.2.24. | B25: FFQ 90° f 100 mm | C25: kos | D25: 1 | F25: =D25*E25 -> 0
A27: 1.2.29. | B27: MMK 11,1/4° f 100 mm, | C27: kos | D27: 2 | F27: =D27*E27 -> 0
A29: 1.2.37. | B29: N 90° f 80 mm | C29: kos | D29: 5 | F29: =D29*E29 -> 0
A31: 1.2.38. | B31: UNIVERZALNA SPOJKA f 100 mm | C31: kos | D31: 1 | F31: =D31*E31 -> 0
A33: 1.2.38. | B33: X slepa prirobnica° f 100 mm | C33: kos | D33: 1 | F33: =D33*E33 -> 0
A37: 1.3. | B37: ARMATURE
A39: 1.3.5. | B39: EV zasun f 80 mm z vgradbeno garnituro in varovalno cestno kapo | C39: kos | D39: 5 | F39: =D39*E39 -> 0
A41: 1.3.8. | B41: NTH 80-16-1.3 | C41: kos | D41: 4 | F41: =D41*E41 -> 0
A43: 1.3.8. | B43: PTH 80-16-1.3 | C43: kos | D43: 1 | F43: =D43*E43 -> 0
A45: 1.3.6. | B45: Hišni priključek z navrtnim zasunom za cev DN 200 s teleskopsko vgr. garnituro in varovalno cestno kapo z gumi tesnilom. | C45: kos | D45: 10 | F45: =D45*E45 -> 0
F47: =SUM(F5:F45) -> 0
A50: 2. | B50: MONTAŽNA DELA
A52: 2.1. | B52: Prenos in spuščanje fazonov in armatur do teže 100 kg/kom | C52: kos | D52: =SUM(D15:D45) -> 57 | F52: =D52*E52 -> 0
A54: 2.2. | B54: Polaganje in stikovanje cevi NL (LTŽ-DUKTIL) f 80 mm | C54: m1 | D54: 11 | F54: =D54*E54 -> 0
A56: 2.3. | B56: Polaganje in stikovanje cevi NL (LTŽ-DUKTIL) f 100 mm | C56: m1 | D56: 286 | F56: =D56*E56 -> 0
A58: 2.4. | B58: Polaganje in stikovanje cevi PEHD DN 32/12.5 | C58: m1 | D58: 60 | F58: =D58*E58 -> 0
A60: 2.5. | B60: Montaža ovalnih zasunov z vgradbeno garnituro
A62: 2.5.1. | B62: f 80 mm | C62: kos | D62: 5 | F62: =D62*E62 -> 0
A64: 2.6. | B64: Montaža fazonov na prirobnice | C64: kos | D64: 37 | F64: =D64*E64 -> 0
A66: 2.7. | B66: Montaža hidrantov | C66: kos | D66: 5 | F66: =D66*E66 -> 0
A68: 2.8. | B68: Montaža hišnih priključkov | C68: kos | D68: 10 | F68: =D68*E68 -> 0
A70: 2.9. | B70: Tlačni preizkus | C70: m1 | D70: 357 | F70: =D70*E70 -> 0
A72: 2.10. | B72: Dezinfekcija cevovoda | C72: m1 | D72: =D70 -> 357 | F72: =D72*E72 -> 0
A74: 2.11. | B74: Postavitev oznak na jaške in zasune | C74: kos | D74: 5 | F74: =D74*E74 -> 0
A76: 2.12. | B76: Drobni in tesnilni material | C76: ocena | D76: 1 | F76: =D76*E76 -> 0
A78: 2.13. | B78: Izdelava geodetskega posnetka in načrta PID v treh izvodih in digitalni obliki | C78: komp | D78: 1 | F78: =D78*E78 -> 0
B79: Opomba : v ceni upoštevati PID za kompletno izvedena dela na vodovodu
...

Sheet REKAPITULACIJA
C5: REKAPITULACIJA
E6: VODOVOD 2 | F6: VODOVOD 3 | G6: SKUPAJ
B8: 1. | C8: CEVNI MATERIAL | E8: ='VODOVOD 2'!F57 -> 0 | F8: ='VODOVOD 3'!F140 -> 0 | G8: =SUM(E8:F8) -> 0
B10: 2. | C10: MONTAŽNA DELA | E10: ='VODOVOD 2'!F59 -> 0 | F10: ='VODOVOD 3'!F142 -> 0 | G10: =SUM(E10:F10) -> 0
B12: 3. | C12: GRADBENA DELA | E12: ='VODOVOD 2'!F61 -> 0 | F12: ='VODOVOD 3'!F144 -> 0 | G12: =SUM(E12:F12) -> 0
C15: SKUPAJ: | E15: =E8+E10+E12 -> 0 | F15: =F8+F10+F12 -> 0 | G15: =SUM(E15:F15) -> 0
C17: DDV 22% | E17: =PRODUCT(E15,0.22) -> 0 | F17: =PRODUCT(F15,0.22) -> 0 | G17: =PRODUCT(G15,0.22) -> 0
C19: VSE SKUPAJ | E19: =SUM(E15:E18) -> 0 | F19: =SUM(F15:F18) -> 0 | G19: =SUM(G15:G18) -> 0
