Workbook
Name Izm_11_005: #REF!
Name Izm_11_006: #REF!
Name Izm_11_007: #REF!
Name Izm_11_009: #REF!
Name s_Prip_del: #REF!
Name SU_MONTDELA: #REF!
Name SU_NABAVAMAT: #REF!
Name SU_ZEMDELA: #REF!
Name Sub_11: #REF!
Name Sub_12: #REF!

Sheet NASLOV
A7: Investitor: | B7: Občina Jesenice
A10: Objekt: | B10: Igrišče Pika
A13: Lokacija: | B13: Jesenice
A15: Št. projekta: | B15: 027/2016
A17: Datum: | B17: december 2016
B22: POPIS DEL

Sheet REKAPITULACIJA
B1: REKAPITULACIJA
B4: A | C4: ZEMELJSKA DELA | G4: ='A zemeljska'!G49 -> 0
B5: B | C5: BETONSKA DELA | G5: ='B betonska'!G13 -> 0
B6: C | C6: VARNOSTNE PODLAGE | G6: ='C podlage'!G12 -> 0
B7: D | C7: ELEMENTI | G7: ='D elementi'!F115 -> 0
B8: E | C8: KONČNA DELA | G8: ='E zaključna dela'!G20 -> 0
B18: SKUPAJ | G18: =SUM(G4:G17) -> 0
B20: SKUPAJ Z 22% DDV | G20: =G18*1.22 -> 0

Sheet A zemeljska
B1: A | C1: ZEMELJSKA DELA
B3: 1. | C3: Priprava, zavarovanje, in organizacija gradbišča z vsemi
C4: pomožnimi objekti, z enostavnimi
C5: opozorilnimi demontažnimi gradbiščnimi ograjami (PVC),
C6: s potrebnimi instalacijami, dopeljavo potrebnih strojev in
C7: orodij, odstranitvijo humusa na mestu gradbiščnih objektov,
C8: z zagotovitvijo varnostnih in higiensko tehničnih pogojev
C9: (montažne WC kabine - najem) in z vsemi predpisanimi
C10: oznakami gradbišča.
C12: ocena | D12: kompl | E12: 1 | G12: =E12*F12 -> 0
B14: 2. | C14: Geodetska dela pred izgradnjo objekta, zakoličba, podajanje
C15: in kontrola višin in potrebnih smeri
C16: ur | D16: ur | E16: 3 | G16: =E16*F16 -> 0
B18: 3. | C18: izkop in odstranitev obstoječih robnikov vključno s temelji.
C19: staro igrišče | D19: m1 | E19: 41 | G19: =E19*F19 -> 0
C20: temelji obstoječih igral in urbane opreme | D20: kos | E20: 14 | G20: =E20*F20 -> 0
B22: 4. | C22: Strojni izkop v terenu III.kategorije - za polja varnostnih podlag, z direktnim nakladanjem in prevozom na začasno gradbiščno deponijo ali direktnim odrivom. Material se uporabi za kreiranje "hribčka" na parceli. Povprečna globina izkopa 30 cm.
C23: krog, veliki P1 | D23: m3 | E23: 34 | G23: =E23*F23 -> 0
C24: krog, manjši P2 | D24: m3 | E24: 10 | G24: =E24*F24 -> 0
C25: ostali elementi | D25: m3 | E25: 5 | G25: =E25*F25 -> 0
B27: 5. | C27: Strojno-ročni izkop v terenu III.kategorije - za temelje elementov z direktnim nakladanjem oziroma odrivanjem materiala na začasno deponijo na gradbišču, material uporabi za izravnavo parcele oz. kreiranje "hribčkov" na parceli. Ocena, točne količine odvisne od ponujenega tipa igrala oz. elementa.
C28: izkop za elemente | D28: m3 | E28: 48.5 | G28: =E28*F28 -> 0
C29: ponudnik lahko to postavko tudi združi s posameznim elementom
B31: 6. | C31: Dovoz materiala iz gradbiščne deponije in "izdelava brežine" z nasipanjem in razstiranjem, po predhodno postavljenih profilih. Točno obliko določi projektant na mestu izvedbe. Hrib se izvede iz materiala, ki je že na gradbišču kot material izkopa. Vključno s potrebnim utrjevanjem in strojnim nabijanjem v plasteh po 10 cm, do predpisane zbitosti in vsemi pomožnimi deli. Trdnost mora biti usrezna, po potrebi delno armirana oz. s torkretom utrjena – ustrezna za izvedbo gumene plasti.
C32: brežina | D32: m3 | E32: 20 | G32: =E32*F32 -> 0
B34: 7. | C34: Dobava in razstiranje, ter planiranje vrhnega sloja zemljine (humusa) v debelini 30cm, primerni za rast trave in drugega rastja, ki se razpotegne na hribček in druga zelena polja, vključno z utrjevanjem v plasteh po 10 cm - valjanjem.
C35: hrib - brežina | D35: m3 | E35: 12 | G35: =E35*F35 -> 0
C36: staro igrišče | D36: m3 | E36: 7 | G36: =E36*F36 -> 0
B38: 8. | C38: Odstranjevanje gradbišča z demontažo in odvozom
C39: gradbiščnih naprav in objektov in zagotovitvijo prvotnega
C40: stanja na uporabljenih površinah.
C41: KV ur | D41: ura | E41: 2 | G41: =E41*F41 -> 0
C42: PK ur | D42: ura | E42: 2 | G42: =E42*F42 -> 0
B44: 9. | C44: Odvoz izkopanega materiala, kompletno z nakladanjem ter planiranje materiala na deponiji. (ocena)
C45: izkopi – hribček | D45: m3 | E45: =(E23+E24+E25+E28-E32)*1.2 -> 93 | G45: =E45*F45 -> 0
C46: robniki | D46: m3 | E46: =0.12*(E19+E20+E21) -> 6.6 | G46: =E46*F46 -> 0
C47: temelji igral | D47: m3 | E47: 0.9 | G47: =E47*F47 -> 0
B49: SKUPAJ | G49: =SUM(G3:G48) -> 0

Sheet B betonska
B1: B | C1: BETONSKA IN ARMIRANOBETONSKA DELA
B4: 1. | C4: Dobava in strojno vgrajevanje betona C25/30 preseka nad 0,08-0,12 m3/m1/kom. Izdelava točkovnih temeljev elementov skladno z navodili oz. zahtevami za montažo posameznega elementa vključno z opaži; količina je ocenjena - odvisna od ponujenega in izbranega tipa elementa. Vključno z armaturo.
D5: m3 | E5: 31.6 | G5: =E5*F5 -> 0
B8: 2. | C8: Dobava in strojno vgrajevanje (po potrebi armiranega) betona C25/30 preseka nad 0,08-0,12 m3/m1/kom. Izdelava večjih pasovnih ali ploskovnih temeljev elementov - P3 skladno z navodili oz. zahtevami za montažo posameznega elementa vključno z opaži; količina je ocenjena - odvisna od ponujenega in izbranega tipa elementa.
D9: m3 | E9: 7 | G9: =E9*F9 -> 0
C11: ponudnik lahko te postavke tudi združi s posameznim elementom
B13: SKUPAJ | G13: =SUM(G3:G12) -> 0

Sheet C podlage
B1: C | C1: VARNOSTNE PODLAGE
B4: 1. | C4: Dobava in razgrinjanje pranega (brez ostrih robov) prodca, kompletno z vsemi transporti in pomožnimi deli (geotekstil kot ločilni sloj). Material: prodec 8 mm (4-8mm), debelina nasutja do 30cm. Lokalno lahko manj, če ustreza konkretni višini padca ponujenega igrala in je skladno z zahtevami za varno podlago po SIST EN 1177. Upoštevati je potrebno še dodatnih 10cm prodca pri prvi vgradnji. Brez robnih elementov. Prodec mora biti brez prahu (opran) pred vgradnjo.
C5: večji krog | D5: m2 | E5: 113 | G5: =E5*F5 -> 0
C6: manjši krog | D6: m2 | E6: 33 | G6: =E6*F6 -> 0
B8: 2. | C8: Gumijasta travna rešetka (plošče), ustrezne debeline oz. varnosti padca za konkretno aplikacijo po SIST 1176. Črne barve. Neto potrebna mera, brutto odvisna od ponujene tehnologije in dimenzije plošče.
C9: preprostor pred bunkerji (zgolj pohodnost) | D9: m2 | E9: 15 | G9: =E9*F9 -> 0
B12: SKUPAJ | G12: =SUM(G3:G11) -> 0

Sheet D elementi
A1: D | B1: ELEMENTI
B2: Vsi elementi morajo biti skladni z veljavnimi standardi, zakonodajo in usklajeni s celovito zasnovo igrišč kot jih je predvidel projektant. Vse operativne spremembe elementov ali ureditev morajo biti objektivno utemeljene, pisno zabeležene in potrjene s strani naročnika.
B4: Za vse elemente velja za dobavo z montažo, vključno z izvedbo temeljev in fiksiranjem (glej tudi sklop popisa A in B). Vsi leseni elementi so ustrezno globinsko zaščiteni in izvedeni z naklonom za odvodnjavanje. Stiki in pritrditve so nevidni in izvedeni z notranje strani oz. sredine lesene plošče. V primerni statične nestabilnosti elementov je potrebno predvideti in izvesti ojačitve. Ojačitve mora potrditi projektant.
B5: Vsi temelji elementov morajo biti ustrezno dimenzionirani. Prav tako kovinska podkonstrukcija. Vsi kovinski elementi podkonstrukcije morajo biti protikorozijsko zaščiteni in barvani v barvi, ki jo določi projektant.
B6: Vsi temelji morajo biti na zgornjem delu zaključeni piramidno, tako da v primeru umanjkanja varnostne podlage na plano ne pogleda oster rob temelja. Temelj se mora zaključiti vsaj 20 cm pod nivojem varnostne podlage, piramidna zaključenost pod kotom 45 stopinj, radij 100mm, pod globino 40 cm pod podlago je temelj lahko polne širine. Vsi temelji morajo segati do globine zmrzovanja, ki je za Jesenice na -100 cm.
B8: Vsi kovinski elementi, če ni drugače specificirano, morajo biti protikorozijsko zaščiteni (peskanje, temeljna barva, 2 x pokrivna barva s tonom po izboru projektanta). Vsi robovi morajo biti posneti, zvari in podobni elementi posneti. Izdelava vzorce obdelave, ki ga mora potrditi projektant.
A10: P1 | B10: glavni element
A11: P1.1 | B11: Osnovna konstrukcija je kovinska, fi 219 mm, okvirna debelina stene 6,3mm. Cevna konstrukcija je spiralno krivljena po načrtu, skupna dolžina konstrukcije 14,10m. Izvajalec mora pripraviti delavniške načrte, ki jih potrdi projektant (statični izračun dimenzij oz. debelin, detajl vpetja preko ploščice deb. 8mm v temelj, dimenzija temelja). Horizontalna prečka 3,90 za dve gugalnici, ustrezne dimenzije. Okvirna teža: 530 kg | C11: kos | D11: 1 | F11: =E11*D11 -> 0
A12: P1.2 | B12: Tipska gugalnica fiksirana na horizontalno cev. Varnostni tečaj, veriga dolžine cca. 2,5m, klasičen sedež iz HDPE gume. kot npr. www.huck.net (dish swing) | C12: kos | D12: 1 | F12: =E12*D12 -> 0
A13: P1.3 | B13: Tipska gugalnica fiksirana na horizontalno cev. Varnostni tečaj, jeklena pletenica (hercules) fi 16mm dolžine cca. 2,5m, Otroški sedež z držali iz jeklene pletenice in plastičnega sedlanega dela. kot npr. www.huck.net (baby cradle) | C13: kos | D13: 1 | F13: =E13*D13 -> 0
A14: P1.4 | B14: Osnovna konstrukcija je kovinska, fi 159 mm, okvirna debelina stene 6,3mm. Cevna konstrukcija je krivljena po načrtu, skupna dolžina konstrukcije 14,40m. Izvajalec mora pripraviti delavniške načrte, ki jih potrdi projektant (statični izračun dimenzij oz. debelin, detajl vpetja preko ploščice deb. 8mm v temelj, dimenzija temelja). Horizontalni prečki podkonstrukcija ploščadi skupaj 3,60 m, ustrezne dimenzije. Okvirna teža: 405 kg | C14: kos | D14: 1 | F14: =E14*D14 -> 0
A16: P1.5 | B16: Standardna drča-tobogan dolžine cca. 300 cm, višine 120 cm iz umetne mase. Fiksirana v ustrezen temelj zgoraj in spodaj. Barva po izboru projektanta. | C16: kos | D16: 1 | F16: =E16*D16 -> 0
A17: P1.6 | B17: Nastopna ploščad iz globinsko impregniranega lesenega lepljenca dimnezije fi 225 cm, debeline 8cm. S podkonstrukcijo fiksirano v kovinsko podkonstrukcijo obročev. Lesena ograja višine 70cm. dolžine 2,5 metra. Lepljen ali masivni les 80/80mm, globinsko impregniran vključno z izvedbo sedala-masivne čole hrast fi 60cm, h 30cm | C17: kos | D17: 1 | F17: =E17*D17 -> 0
A18: P1.7 | B18: Stopnice za vzpon do ploščadi: masivni hrastov les, L160cm, širine 50cm, 10 prečk za nastopne ploskve + zaščitna ograja, h 70cm, kompletno z vsemi pomožnimi deli | C18: kos | D18: 1 | F18: =E18*D18 -> 0
A19: P1.8 | B19: Vertikalne pletenice z obroči - držali za noge in roke x 5 + vertikalna pletena lestev, Varnostni tečaj, jeklena pletenica (hercules) fi 16mm dolžine cca. 2,0m, kot npr. www.huck.net | C19: kos | D19: 1 | F19: =E19*D19 -> 0
A20: P1.9 | B20: Vertikalna ploščad iz globinsko impregniranega lesenega lepljenca, opcijsko vodoodporna vezana plošča dimnezije 350 x 150 cm, debeline 6cm. S podkonstrukcijo fiksirano v temelj v varnostno podlago + oprimki za plezanje, ocena 15 kosov. | C20: kos | D20: 1 | F20: =E20*D20 -> 0
A22: P1.A | B22: glavni element – pomožni
A23: P1.A.1 | B23: Osnovna konstrukcija je kovinska, fi 219 mm, okvirna debelina stene 6,3mm. Cevna konstrukcija je krivljena po radiu 1m. Izvajalec mora pripraviti delavniške načrte, ki jih potrdi projektant (statični izračun dimenzij oz. debelin, detajl vpetja preko ploščice deb. 8mm v temelj, dimenzija temelja) Okvirna teža: 365 kg | C23: kos | D23: 1 | F23: =E23*D23 -> 0
A24: P1.A.2 | B24: Plezalna mreža fi 25, kvadrat 40x40cm /tipa, jeklena sredica, pletenje hercules 180x230cm + RF lestev fi 30mm, dim 60x300 cm | C24: kos | D24: 1 | F24: =E24*D24 -> 0
A26: P3 | B26: element - oporni zid
A27: P3.1. | B27: Osnovna konstrukcija opornega zidu terena je kovinska, okvirna debelina stene 8,0mm. Pločevina je krivljena po radiu priloženih načrtov. Pločevina je barvana po izbranem RAL-u po navodilih projektanta. Izvajalec mora pripraviti delavniške načrte, ki jih potrdi projektant (statični izračun dimenzij oz. debelin, detajl vpetja preko vertikalnih ojačitvenih stebrov v temelj, dimenzija temelja) Okvirna teža: 580 kg *opcijsko se lahko predvidi izvedbo opornega zidu z lesenimi morali - ''švelerji'' 12/25cm, hrbtno medsebojno povezanimi s kajlami in sidranimi preko vertikalnih stebričev v temelj, predlog izvedbe obvezno potrdi projektant | C27: kos | D27: 1 | F27: =E27*D27 -> 0
A29: E1 | B29: cev fi 40
B30: Osnovni gradnik kovinska cev premera 40 cm, višine 40 cm nad terenom (60 cm). Debelina stene 6mm (ali tanjše z nevidnimi ojačitvami oz. rebri). 3cm pod zgornjim robom navarjen horizontalen disk širine 3cm. Okvirna teža: 37 kg | C30: kos | D30: =D33+D36+D39 -> 10 | F30: =E30*D30 -> 0
A32: E1a | B32: sedež
B33: Nadgradnja elementa E1 s sedalnim delom. Na element se pritrdi leseni del iz macesnovega lepljenca fi 40cm debeline 7cm. Distančna fuga. Nevidno fiksiranje preko podkonstrukcije na disk nosilnega elementa. Mikroposneti robovi. Fino brušeno. | C33: kos | D33: 6 | F33: =E33*D33 -> 0
A35: E1b | B35: ovira
B36: Nadgradnja elementa E1 s kupolo. Na element se pritrdi sferična kovinska kapa, ki se nevidno fiksira v disk nosilnega elementa. Premer kape je nekaj manj kot 40cm. Kapa je inox, peskan. Distančna fuga. | C36: kos | D36: 0 | F36: =E36*D36 -> 0
A38: E1v | B38: visoka greda
B39: Nadgradnja elementa E1z zemljino. V osnovni element se nasuje kvalitetna zemlja, na vrhu plast 10cm, humusa. Paziti je treba, da ima zemlja stik z raščenim terenom za odvodnjavanje! | C39: kos | D39: 4 | F39: =E39*D39 -> 0
A41: E2 | B41: cev fi 80
B42: Osnovni gradnik kovinska cev premera 80 cm, višine 40 cm nad terenom (60 cm). Debelina stene 8mm (ali tanjše z nevidnimi ojačitvami oz. rebri). 3cm pod zgornjim robom navarjen horizontalen disk širine 3cm. Okvirna teža: 99 kg | C42: kos | D42: =D45+D48 -> 4 | F42: =E42*D42 -> 0
A44: E2a | B44: sedež
B45: Nadgradnja elementa E2 s sedalnim delom. Na element se pritrdi leseni del iz macesnovega lepljenca fi 80cm debeline 7cm. Distančna fuga. Nevidno fiksiranje preko podkonstrukcije na disk nosilnega elementa. Mikroposneti robovi. Fino brušeno. | C45: kos | D45: 3 | F45: =E45*D45 -> 0
A47: E2b | B47: šah
B48: Nadgradnja elementa E2 z igralno površino za šah. Pokrov nosilnega elementa je peskan inox ustrezne debeline na kovinski podkonstrukciji, ki se nevidno pritrdi na disk elementa. Bok pokrova debeline 2cm privarjen ali ukrivljen z zaobljenimi robovi. Na površino se peska grafika polj za igranje šaha. | C48: kos | D48: 1 | F48: =E48*D48 -> 0
A50: E3 | B50: cev fi 80 – visoka
B51: Osnovni gradnik kovinska cev premera 80 cm, višine 80 cm nad terenom (100 cm). Debelina stene 8mm (ali tanjše z nevidnimi ojačitvami oz. rebri). 3cm pod zgornjim robom navarjen horizontalen disk širine 3cm. Okvirna teža: 165 kg | C51: kos | D51: =D54+D57+D60+D63 -> 4 | F51: =E51*D51 -> 0
A53: E3a | B53: sedež
B54: element je enak elementu E2a | C54: kos | D54: 0 | F54: =E54*D54 -> 0
A56: E3b | B56: žar
B57: Nadgradnja elementa E3 v žar. V osnovni element se ustavi inox spodnja posoda za ogenj, ki mora biti snemljiva. Pritrditev z inox vijaki s torx glavo. Nad nivo nosilnega elementa se na treh ali več nogicah na višini 40cm izvede kovinska mreža za žar, mreža debeline 3cm. Vročecinkana ali inox. Odstranljiva. | C57: kos | D57: 1 | F57: =E57*D57 -> 0
A59: E3c | B59: koš za smeti
B60: Nadgradnja elementa E3 v koš za smeti. Tehnična rešitev vsebuje 3 prekate in sistem praznjenja. Rešitev se prilagodi sistemski rešitvi upravljalcu (Je-KO Jesenice). | C60: kos | D60: 1 | F60: =E60*D60 -> 0
A62: E3v | B62: visoka greda
B63: Nadgradnja elementa E3 z zemljino. V osnovni element se nasuje kvalitetna zemlja, na vrhu plast 10cm, humusa. Spodnja plast cevi (30cm) je lahko vodoprepustno nasutje, v tem primeru je potrebno dodati plast geotekstila. Paziti je treba, da ima zemlja stik z raščenim terenom za odvodnjavanje! | C63: kos | D63: 2 | F63: =E63*D63 -> 0
A65: E4 | B65: cev fi 160
B66: Osnovni gradnik kovinska cev premera 160 cm, višine 40 cm nad terenom (60 cm). Debelina stene 10mm (ali tanjše z nevidnimi ojačitvami oz. rebri). 3cm pod zgornjim robom navarjen horizontalen disk širine 3cm. Vsi robovi posneti. Vgradnja v temelj. Okvirna teža: 248 kg | C66: kos | D66: =D69+D72+D75+D79 -> 4 | F66: =E66*D66 -> 0
A68: E4a | B68: sedež
B69: Nadgradnja elementa E4 s sedalnim delom. Na element se pritrdi leseni del iz macesnovega lepljenca fi 160cm debeline 7cm. Diletacijska fuga. Nevidno fiksiranje preko podkonstrukcije na disk nosilnega elementa. Kovinska ali lesena podkonstrukcija. Mikroposneti robovi. Fino brušeno. | C69: kos | D69: 1 | F69: =E69*D69 -> 0
A71: E4b | B71: sedež z luknjo
B72: Nadgradnja elementa E4 s sedalnim delom. Na element se pritrdi leseni del iz macesnovega lepljenca fi 160cm debeline 7cm. Nevidno fiksiranje preko podkonstrukcije na disk nosilnega elementa. Kovinska ali lesena podkonstrukcija. Mikroposneti robovi. Fino brušeno. V osrednjem delu osnovnega nosilca se izvede še ena kovinska cev fi 75cm z navzven obrnjenim navarjenim delom za pritrditev lesenega dela. Leseni del se opaše na notranjo cev. | C72: kos | D72: 1 | F72: =E72*D72 -> 0
A74: E4c | B74: peskovnik
B75: Nadgradnja elementa E4 v peskovnik. Na element se pritrdi leseni obroč širine 10cm iz macesnovega lepljenca fi 160cm debeline 4cm. Distančna fuga 1 cm. Nevidno fiksiranje preko podkonstrukcije na disk nosilnega elementa. Mikroposneti robovi. Fino brušeno. | C75: kos | D75: 0 | F75: =E75*D75 -> 0
B76: Vsebina se zapolni spodaj s polnilom, z geotekstilom ločenim s plastjo 20 cm peska za peskovnike (fin kremenov pesek). - 0,4 m3) | C76: kos | D76: 0 | F76: =E76*D76 -> 0
A78: E4v | B78: visoka greda
B79: Nadgradnja elementa E4 z zemljino. V osnovni element se nasuje kvalitetna zemlja, na vrhu plast 10cm, humusa. Paziti je treba, da ima zemlja stik z raščenim terenom za odvodnjavanje! | C79: kos | D79: 2 | F79: =E79*D79 -> 0
A81: E5 | B81: namizni nogomet
B82: Osnovni gradnik kovinska cev premera 160 cm, višine 100 cm nad terenom (120 cm). Debelina stene 10mm (ali tanjše z nevidnimi ojačitvami oz. rebri). Vgradi se inox kovinska podlaga 20 cm pod zgornji rob. Ob strani so luknjice za odvodnjo vode. Na dveh mestih je poglobitev podlage za gol v dimenzijo cca. 15 x 10 cm s svojo »škatlico«, v katero padajo žogice med igro (kot gol) 10cm pod zgornjim robom se skozi luknje vstavijo 4x kovinske palice s plastičnimi ročaji na obeh straneh ter po 2x4 in 2x1 plastičnih figuric za igranje. Palice morajo omogočati premikanje levo/desno do omejitve. Vsi robovi posneti. Vgradnja v temelj. Okvirna teža: 500 kg | C82: kos | D82: 0 | F82: =E82*D82 -> 0
A84: E6 | B84: bunker
B85: Kovinska cev premera 200 cm, višine 70 cm nad terenom (90 cm). Debelina stene 10mm. 2/3 obsega kroga. Izreže se 6 lukenj premera fi >12 cm Vsi robovi posneti. Vgradnja v temelj. Okvirna teža: 307 kg | C85: kos | D85: 4 | F85: =E85*D85 -> 0
A87: E7 | B87: smerokaz
B88: Nadgradnja elementa E2a s smerokazom. V sredino elementa se doda kovinski drog fi 10cm, višine 200cm. Pocinkan. Lesen sedežni del se opaše na preboj droga. Doda se temelj za drog. Na drog se navari 4 smerokaze iz kovine d 10mm, dolžine 70cm, višine 18 cm. Na eni strani je všpičen. | C88: kos | D88: 1 | F88: =E88*D88 -> 0
B89: Nalepka, solventni tisk 4/0 z UV zaščito. 7 let garancije. Dimenzija nalepke 70 x 18 cm. | C89: kos | D89: 4 | F89: =E89*D89 -> 0
A91: E8 | B91: totem
B92: Nadgradnja elementa E2 s totemom. Osnovni element se zapre z inox diskom na ustrezni podkonstrukciji. Na nosilni kovinski drog fi 10cm višine do 200 cm. Na drogu je tabla/cev fi 80 cm višine 120cm z analognim zaključkom na vrhu ter zaprtjem spodaj. Vključno z ustrezno podkonstrukcijo. | C92: kos | D92: 1 | F92: =E92*D92 -> 0
B93: Nalepka, solventni tisk 4/0 z UV zaščito. 7 let garancije. Dimenzija nalepke 70 x 100 cm. | C93: kos | D93: 1 | F93: =E93*D93 -> 0
B94: Laserski izrez ukrivljene inox pločevine 5 mm z imenom igrišča. Velikost črk 12 cm. cca, 12 črk. Varjeno ali lepljeno na osnovni element. | C94: kos | D94: 1 | F94: =E94*D94 -> 0
A96: K1 | B96: klop K1
B97: Klasična klop z dvema litoželeznima nosilnima elementoma barvanima po tonu določenim s strani projektanta. Sedalni del leseni morali iz macesna s posnetimi robovi. Dolžina moralov/klopi 200 cm. | C97: kos | D97: 3 | F97: =E97*D97 -> 0
A99: K1a | B99: klop K1a
B100: Klop z dvema nosilnima elementoma iz kovinskih pasov širine 8 cm in ustrezne debeline. Spoji varjeni. Element tvori noge ter sedalno/hrbtni del klopi. Barvano po tonu določenim s strani projektanta. Sedalni del leseni morali iz macesna s posnetimi robovi. | C100: kos | D100: 0 | F100: =E100*D100 -> 0
A102: K2 | B102: klop K2
B103: Analogna klop K1, le da je dolžina moralov/kopi 74 cm. | C103: kos | D103: 3 | F103: =E103*D103 -> 0
A105: K2a | B105: klop K2a
B106: Analogna klop K1a, le da je dolžina moralov/kopi 74 cm. | C106: kos | D106: 0 | F106: =E106*D106 -> 0
A108: ET1 | B108: vzmetni igralo 1
B109: Klasično enojno vzmetno igralo. Kvalitetno izdelano. Abstraktne oblike. Oprijem za roke in noge. Umirjene barve. Proizvajalca in model obvezno potrdi projektant pred naročilom! npr: Kompan M172P horse | C109: kos | D109: 1 | F109: =E109*D109 -> 0
A111: ET2 | B111: dvojno vzmetno igralo 2
B112: Klasično dvojno vzmetno igralo. Kvalitetno izdelano. Abstraktne oblike. Oprijem za roke in noge. Umirjene barve. Proizvajalca in model obvezno potrdi projektant pred naročilom! npr: Kompan M113P Crazy Dragon | C112: kos | D112: 2 | F112: =E112*D112 -> 0
A115: SKUPAJ | F115: =SUM(F9:F114) -> 0

Sheet E zaključna dela
B1: E | C1: KONČNA DELA
B4: 1. | C4: Valjanje površin in zatravitev, kompletno z vsemi pomožnimi deli Planiranje in razrahljanje površine, dobava in sejanje kvalitetne travne mešanice za ozelenitev s humusom novo nasutih zelenic. Izvedba s sejanjem in uvaljanjem površine. Travna mešanica, ki je primerna za vlažne in bolj senčne pogoje oziroma nizka trava primerna za površine v parkih in za celinske razmere. Za glavnino trate se seje travna mešanica za sončna in senčna rastišča. Za travno mešanico se uporabi 25-30 g semena na m². Sestava travnih mešanic po predlogu strokovnjaka! Po setvi je potrebno območje obilno zaliti in preprečiti obremenitve posejanih tal. Travna mešanica mora biti čimbolj prilagojena naravnim razmeram in kvaliteti tal. Na površine se posadi travna mešanica, ki je ralativno nezahtevna in prenese večje obremenitve ter se hitro regenerira. Pri izvedbi trate je potrebno upoštevati DIN 18 917 smernice. Setev, gnojenje, zalivanje do predaje.
C5: hribček - brežina | D5: m2 | E5: 60 | G5: =E5*F5 -> 0 | I5: 41
C6: staro igrišče | D6: m2 | E6: 60 | G6: =E6*F6 -> 0
B8: 2. | C8: Dobava in zasaditev sadik grmovnic - Medvejka (Spiraea vanhouttei). Vključno z vsemi pomožnimi deli, kot je izkop, priprava posteljice iz ustrezne zemlje, zasipavanje,…Vključno z zalivanjem 1 mesec.
D9: kos | E9: 36 | G9: =E9*F9 -> 0
B11: 3. | C11: Dobava in zasaditev sadik jagodičevja v visoke grede (različne vrste npr. jagode (Fragaria), brusnice (vaccinium vitis-idaea), ribez (Ribes rubrum), kosmulje (Ribes uva crispa), ameriške borovnice (Vaccinium corymbosum).
C12: visoka greda E1v (jagodičevje nižje rasti) – cca. 5 sadik | D12: kos | E12: 4 | G12: =F12*E12 -> 0
C13: visoka greda E3v (jagodičevje nižje rasti) – cca. 10 sadik | D13: kos | E13: 2 | G13: =F13*E13 -> 0
C14: visoka greda E4v (jagodičevje višje in nižje rasti) – cca. 10 sadik | D14: kos | E14: 2 | G14: =F14*E14 -> 0
B16: 4. | C16: Izdelava varnostnega pregleda in poročila za igrišče skladno s slovensko zakonodajo (zlasti SIST 1176 in SIST 1177).
D17: kos | E17: 1 | G17: =E17*F17 -> 0
B20: SKUPAJ | G20: =SUM(G3:G17) -> 0
