Workbook
Name Excel_BuiltIn_Print_Area: 'P359-rakapitulacija'!$A$1:$E$52
Name Excel_BuiltIn_Print_Titles: 'P359-rakapitulacija'!#REF!

Sheet P359-etapa 1
B2: Številka projekta: P-359/16
B3: Številka načrta: N-359/16-C
B6: CESTA NA DEPONIJO KOMUNALNIH ODPADKOV
B7: MALA MEŽAKLA (LC 152160) - 3. DEL
B8: Rekonstrukcija ceste od km 1+960 do km 3+640 v dolžini 1680m
B10: IZN
B15: T.3.2.1 PROJEKTANTSKI PREDRAČUN
C18: - 1. etapa (km 1+960 - km 2+390)
B33: KRANJ, NOVEMBER 2016
C40: REKAPITULACIJA
B42: 1.0 | C42: PREDDELA | G42: =G106 -> 0
B43: 2.0 | C43: ZEMELJSKA DELA IN TEMELJENJE | G43: =G169 -> 0
B44: 3.0 | C44: VOZIŠČNE KONSTRUKCIJE | G44: =G210 -> 0
B45: 4.0 | C45: ODVODNJAVANJE | G45: =G264 -> 0
B46: 5.0 | C46: GRADBENA IN OBRTNIŠKA DELA | G46: =G269 -> 0
B47: 6.0 | C47: PROMETNA OPREMA | G47: =G292 -> 0
B48: 7.0 | C48: TUJE STORITVE | G48: =G308 -> 0
C50: SKUPAJ | G50: =IF(SUM(G42:G48)=0,"",SUM(G42:G48)) | K50: =G50/E61/1000 -> #VALUE! | L50: EUR/m1
C51: + DDV 22% | G51: =G50*0.22 -> #VALUE! | K51: =G50/E194 -> #VALUE! | L51: EUR/m2 asfalta
C52: VSE SKUPAJ | G52: =G50+G51 -> #VALUE!
A55: Zap.št. | B55: Šifra | C55: Opis del | D55: Enota | E55: Količina | F55: Cena | G55: Vrednost
B57: 1. | C57: PREDDELA
B59: 1.1 | C59: Geodetska dela
A61: 1 | B61: 11 123 | C61: Obnova in zavarovanje zakoličbe osi trase ostale javne ceste v hribovitem terenu | D61: km | E61: 0.43 | G61: =E61*F61 -> 0
A63: 2 | B63: 11 223 | C63: Postavitev in zavarovanje prečnega profila ostale javne ceste v hribovitem terenu | D63: kos | E63: 43 | G63: =E63*F63 -> 0
B65: 1.2 | C65: Čiščenje terena | G65: =IF(ISBLANK(E65),"",IF(ISBLANK(F65),"",E65*F65))
B67: 1.2.1 | C67: Odstranitev grmovja, dreves, vej in panjev | G67: =IF(ISBLANK(E67),"",IF(ISBLANK(F67),"",E67*F67))
A69: 3 | B69: 12 111 | C69: Odstranitev grmovja na redko porasli površini (do 50 % pokritega tlorisa) - ročno (ocena) in z odvozom | D69: m2 | E69: 320 | G69: =E69*F69 -> 0
A71: 4 | B71: 12 131 | C71: Odstranitev grmovja in dreves z debli premera do 10 cm ter vej na redko porasli površini - ročno (ocena) in z odvozom | D71: m2 | E71: 255 | G71: =E71*F71 -> 0
A73: 5 | B73: 12 151 | C73: Posek in odstranitev drevesa z deblom premera 11 do 30 cm ter odstranitev vej (ocena) in z odvozom | D73: kos | E73: 32 | G73: =E73*F73 -> 0
A75: 6 | B75: 12 152 | C75: Posek in odstranitev drevesa z deblom premera 31 do 50 cm ter odstranitev vej (ocena) in z odvozom | D75: kos | E75: 32 | G75: =E75*F75 -> 0
A77: 7 | B77: 12 163 | C77: Odstranitev panja s premerom 11 do 30 cm z odvozom na deponijo po izbiri izvajalca | D77: kos | E77: 32 | G77: =E77*F77 -> 0
A79: 8 | B79: 12 166 | C79: Odstranitev panja s premerom 31 do 50 cm z odvozom na deponijo po izbiri izvajalca | D79: kos | E79: 32 | G79: =E79*F79 -> 0
B81: 1.2.2 | C81: Odstranitev prometne signalizacije in opreme | G81: =IF(ISBLANK(E81),"",IF(ISBLANK(F81),"",E81*F81))
A83: 9 | B83: 12 231 | C83: Demontaža jeklene varnostne ograje | D83: m1 | E83: 143 | G83: =E83*F83 -> 0
B85: 1.2.3 | C85: Porušitev in odstranitev voziščnih konstrukcij
A87: 10 | B87: 12 323 | C87: Porušitev in odstranitev asfaltne plasti v debelini 10 do 15 cm | D87: m2 | E87: 112 | G87: =E87*F87 -> 0
A89: 11 | B89: 12 383 | C89: Rezanje asfaltne plasti s talno diamantno žago, debele 10 do 15 cm | D89: m1 | E89: 6.3 | G89: =E89*F89 -> 0
B91: 1.2.4 | C91: Porušitev in odstranitev objektov | G91: =IF(ISBLANK(E91),"",IF(ISBLANK(F91),"",E91*F91))
A93: 12 | B93: 12 411 | C93: Porušitev in odstranitev prepusta iz betonskih cevi s premerom do 60 cm in odvozom ruševin | D93: m1 | E93: 12 | G93: =E93*F93 -> 0
A95: 13 | B95: - | C95: Odstranitev in odvoz kovinskih drežnikov | D95: m1 | E95: 39 | G95: =E95*F95 -> 0
A97: 14 | B97: - | C97: Odstranitev obstoječih betonskih kanalet | D97: m1 | E97: 30 | G97: =E97*F97 -> 0
B99: 1.3 | C99: Ostala preddela | G99: =IF(ISBLANK(E99),"",IF(ISBLANK(F99),"",E99*F99))
B101: 1.3.1 | C101: Omejitve prometa | G101: =IF(ISBLANK(E101),"",IF(ISBLANK(F101),"",E101*F101))
G102: =IF(ISBLANK(E102),"",IF(ISBLANK(F102),"",E102*F102))
A103: 15 | B103: 13 111 | C103: Zavarovanje gradbišča v času gradnje s polovično zaporo prometa in usmerjanjem s semaforji (predvideno za ves čas gradnje) | D103: kos | E103: 1 | G103: =E103*F103 -> 0
C106: Skupaj 1.0 | G106: =SUM(G57:G105) -> 0
B109: 2. | C109: ZEMELJSKA DELA IN TEMELJENJE | G109: =IF(ISBLANK(E109),"",IF(ISBLANK(F109),"",E109*F109))
B111: 2.1 | C111: Izkopi
A113: 1 | B113: 21 234 | C113: Široki izkop zrnate kamnine – 3. kategorije – strojno z nakladanjem (za voziščno konstrukcijo) - 50% potrebnega izkopa za voziščno konstrukcijo | D113: m3 | E113: 1253 | G113: =E113*F113 -> 0
A115: 2 | B115: 21 234 | C115: Široki izkop zrnate kamnine – 3. kategorije – strojno z nakladanjem (brežina) - 25% potrebnega izkopa brežine | D115: m3 | E115: 349 | G115: =E115*F115 -> 0
A117: 3 | B117: 21 234 | C117: Široki izkop zrnate kamnine – 3. kategorije – strojno z nakladanjem (izogibališča) | D117: m3 | E117: 69 | G117: =E117*F117 -> 0
A119: 4 | B119: 21 243 | C119: Široki izkop mehke kamnine – 4. kategorije z nakladanjem (za voziščno konstrukcijo) - 40% potrebnega izkopa za voziščno konstrukcijo | D119: m3 | E119: 1003 | G119: =E119*F119 -> 0
A121: 5 | B121: 21 243 | C121: Široki izkop mehke kamnine – 4. kategorije z nakladanjem (brežina) - 35% potrebnega izkopa brežine | D121: m3 | E121: 489 | G121: =E121*F121 -> 0
A123: 6 | B123: 21 253 | C123: Široki izkop trde kamnine – 5. kategorije z nakladanjem (brežina) - 10% potrebnega izkopa za voziščno konstrukcijo | D123: m3 | E123: 251 | G123: =E123*F123 -> 0
A125: 7 | B125: 21 253 | C125: Široki izkop trde kamnine – 5. kategorije z nakladanjem (brežina) - 40% potrebnega izkopa brežine | D125: m3 | E125: 558 | G125: =E125*F125 -> 0
B128: 2.2 | C128: Planum temeljnih tal | G128: =IF(ISBLANK(E128),"",IF(ISBLANK(F128),"",E128*F128))
A130: 8 | B130: 22 113 | C130: Ureditev planuma temeljnih tal zrnate kamnine – 3. kategorije (50%) | D130: m2 | E130: 1958 | G130: =E130*F130 -> 0
A132: 9 | B132: 22 114 | C132: Ureditev planuma temeljnih tal mehke kamnine – 4. kategorije (50%) | D132: m2 | E132: 1958 | G132: =E132*F132 -> 0
B134: 2.4 | C134: Nasipi, zasipi, klini, posteljica in glinasti naboj | G134: =IF(ISBLANK(E134),"",IF(ISBLANK(F134),"",E134*F134))
A136: 10 | B136: 24 112 | C136: Vgraditev nasipa iz zrnate kamnine – 3. kategorije (izkopni material) | D136: m3 | E136: 42 | G136: =E136*F136 -> 0
A138: 11 | B138: 24 214 | C138: Zasip z zrnato kamnino – 3. kategorije - strojno, z utrjevanjem po plasteh (drenaže, jaški, prepusti) (izkopni material) | D138: m3 | E138: 196 | G138: =E138*F138 -> 0
A140: 12 | B140: 24 476 | C140: Izdelava posteljice iz drobljenih kamnitih zrn v debelini do 50 cm frakcije do 100 mm | D140: m3 | E140: 1302 | G140: =E140*F140 -> 0
B142: 2.5 | C142: Brežine in zelenice | G142: =IF(ISBLANK(E142),"",IF(ISBLANK(F142),"",E142*F142))
A144: 13 | B144: 25 218 | C144: Zaščita brežine s težko sidrano mrežo, 1 sidro/2 m2 (ocena 30% vseh novih vkopov) - po detajlu | D144: m2 | E144: 347 | G144: =E144*F144 -> 0
A146: 14 | B146: 25 275 | C146: Zaščita brežine z lomljencem, vgrajenim v beton, po načrtu (iztoki iz prepustov) | D146: m2 | E146: 20 | G146: =E146*F146 -> 0
A148: 15 | B148: 25 275 | C148: Zaščita brežine z lomljencem, vgrajenim v beton, po načrtu (iztoki asfaltne mulde) | D148: m2 | E148: 10.5 | G148: =E148*F148 -> 0
A150: 17 | B150: 25 275 | C150: Zaščita brežine z lomljencem, vgrajenim v beton, (zavarovanje priključka gozdne vlake) | D150: m2 | E150: 0 | G150: =IF(ISBLANK(E150),"",IF(ISBLANK(F150),"",E150*F150))
A152: 16 | B152: 25 275 | C152: Zaščita brežine z lomljencem, vgrajenim v beton, po načrtu (zaščita brežine nad vtoki v jaške in prepuste) | D152: m2 | E152: 9 | G152: =E152*F152 -> 0
A154: 17 | B154: - | C154: Škarpiranje (čiščenje in izravnava) brežine (ocena) | D154: m2 | E154: 620 | G154: =E154*F154 -> 0
A156: 18 | B156: - | C156: Izravnava in planiranje terena, debelina nasipa do 20cm | D156: m2 | E156: 210 | G156: =E156*F156 -> 0
A158: 19 | B158: - | C158: Protierozijska zaščita brežine - zatravitev z rastno pulpo (travna mešanica z organskim lepilom nanešena na vkopne brežine) - ocena | D158: m2 | E158: 578 | G158: =E158*F158 -> 0
B160: 2.9 | C160: Prevozi, razprostiranje in ureditev deponij materiala | G160: =IF(ISBLANK(E160),"",IF(ISBLANK(F160),"",E160*F160))
A163: 20 | B163: 29 152 | C163: Nakladanje viška materiala na kamion z odvozom na stalno deponijo po izbiri izvajalca, razsprostiranjem materiala ter plačilom takse za deponirani material (v raščenem stanju) | D163: m3 | E163: 3451 | G163: =E163*F163 -> 0
A165: 21 | B165: 29 153 | C165: Odlaganje odpadnega asfalta na komunalno deponijo | D165: t | E165: =E87*0.13*2.2 -> 32.032 | G165: =E165*F165 -> 0
A167: 22 | B167: - | C167: Odlaganje ruševin na deponijo (betonski jaški, prepusti, ograje...) | D167: m3 | E167: 3 | G167: =E167*F167 -> 0
C169: Skupaj 2.0 | G169: =SUM(G109:G168) -> 0
B172: 3. | C172: VOZIŠČNE KONSTRUKCIJE | G172: =IF(ISBLANK(E172),"",IF(ISBLANK(F172),"",E172*F172))
B174: 3.1 | C174: Nosilne plasti
B176: 3.1.1 | C176: Nevezane nosilne plasti
A178: 1 | B178: 31 132 | C178: Izdelava nevezane nosilne plasti enakomerno zrnatega drobljenca TD32 iz kamnine v debelini 21 do 30 cm | D178: m3 | E178: 940 | G178: =E178*F178 -> 0
A180: 2 | B180: 31 132 | C180: Izdelava nevezane nosilne plasti enakomerno zrnatega drobljenca TD32 iz kamnine v debelini 21 do 30 cm (izogibališča) | D180: m3 | E180: 58 | G180: =E180*F180 -> 0
B182: 3.1.3 | C182: Vezane zgornje nosilne in nosilnoobrabne plasti z bitumenskimi vezivi | G182: =IF(ISBLANK(E182),"",IF(ISBLANK(F182),"",E182*F182))
A184: 3 | B184: 31 654 | C184: Izdelava nosilne plasti bituminizirane zmesi AC 32 base B 70/100 A3 v debelini 8 cm | D184: m2 | E184: 2555 | G184: =E184*F184 -> 0
B186: 3.2 | C186: Obrabne plasti
B188: 3.2.1 | C188: Nevezane obrabne plasti | G188: =IF(ISBLANK(E188),"",IF(ISBLANK(F188),"",E188*F188))
A190: 4 | B190: 32 111 | C190: Izdelava nevezane (mehanično stabilizirane) obrabne plasti iz zmesi zrn drobljenca v debelini do 15 cm (posip izogibališč 4cm) | D190: m3 | E190: 8.8 | G190: =E190*F190 -> 0
B192: 3.2.2 | C192: Asfaltne obrabne in zaporne plasti – bitumenski betoni – Asphalt concrete – surface (AC surf) | G192: =IF(ISBLANK(E192),"",IF(ISBLANK(F192),"",E192*F192))
A194: 5 | B194: 32 278 | C194: Izdelava obrabne in zaporne plasti bituminizirane zmesi AC 11 surf B 70/100 A3 v debelini 4 cm | D194: m2 | E194: 2555 | G194: =E194*F194 -> 0
A196: 6 | B196: - | C196: Čiščenje asfaltne nosilne plasti in premaz z bitumensko emulzijo pred polaganjem asfaltne obrabne plasti | D196: m2 | E196: 2555 | G196: =E196*F196 -> 0
B198: 3.5.2 | C198: Robniki | G198: =IF(ISBLANK(E198),"",IF(ISBLANK(F198),"",E198*F198))
A200: 7 | B200: 35 214 | C200: Dobava in vgraditev predfabriciranega dvignjenega robnika iz cementnega betona s prerezom 15/25 cm - ob koritnici | D200: m1 | E200: 18 | G200: =E200*F200 -> 0
B202: 3.6 | C202: Bankine | G202: =IF(ISBLANK(E202),"",IF(ISBLANK(F202),"",E202*F202))
A204: 8 | B204: 36 131 | C204: Izdelava bankine iz drobljenca, široke do 0,50 m | D204: m3 | E204: 64 | G204: =E204*F204 -> 0
A206: 9 | B206: 36 133 | C206: Izdelava bankine iz drobljenca, široke 0,76 do 1,00 m | D206: m3 | E206: 22 | G206: =E206*F206 -> 0
A208: 10 | B208: 36 211 | C208: Izdelava humuzirane bankine, široke do 0,50 m (berma) | D208: m2 | E208: 16 | G208: =E208*F208 -> 0
C210: Skupaj 3.0 | G210: =SUM(G172:G209) -> 0
B213: 4. | C213: ODVODNJAVANJE | G213: =IF(ISBLANK(E213),"",IF(ISBLANK(F213),"",E213*F213))
B215: 4.1 | C215: Površinsko odvodnjavanje
A217: 1 | B217: 41 341 | C217: Izdelava koritnice iz bitumenskega betona, debeline 4 cm, in bituminiziranega drobljenca, povprečne debeline 8 cm, ob že zgrajenem robniku, na obstoječo podlago, široke 50 cm | D217: m1 | E217: 18 | G217: =E217*F217 -> 0
...

Sheet P359-etapa 2
B2: Številka projekta: P-359/16
B3: Številka načrta: N-359/16-C
B6: CESTA NA DEPONIJO KOMUNALNIH ODPADKOV
B7: MALA MEŽAKLA (LC 152160) - 3. DEL
B8: Rekonstrukcija ceste od km 1+960 do km 3+640 v dolžini 1680m
B10: IZN
B15: T.3.2.2 PROJEKTANTSKI PREDRAČUN
C18: - 2. etapa (km 2+390 - km 2+820)
B33: KRANJ, NOVEMBER 2016
C40: REKAPITULACIJA
B42: 1.0 | C42: PREDDELA | G42: =G98 -> 0
B43: 2.0 | C43: ZEMELJSKA DELA IN TEMELJENJE | G43: =G160 -> 0
B44: 3.0 | C44: VOZIŠČNE KONSTRUKCIJE | G44: =G203 -> 0
B45: 4.0 | C45: ODVODNJAVANJE | G45: =G254 -> 0
B46: 5.0 | C46: GRADBENA IN OBRTNIŠKA DELA | G46: =G259 -> 0
B47: 6.0 | C47: PROMETNA OPREMA | G47: =G282 -> 0
B48: 7.0 | C48: TUJE STORITVE | G48: =G298 -> 0
C50: SKUPAJ | G50: =IF(SUM(G42:G48)=0,"",SUM(G42:G48)) | K50: =G50/E61/1000 -> #VALUE! | L50: EUR/m1
C51: + DDV 22% | G51: =G50*0.22 -> #VALUE! | K51: =G50/E187 -> #VALUE! | L51: EUR/m2 asfalta
C52: VSE SKUPAJ | G52: =G50+G51 -> #VALUE!
A55: Zap.št. | B55: Šifra | C55: Opis del | D55: Enota | E55: Količina | F55: Cena | G55: Vrednost
B57: 1. | C57: PREDDELA
B59: 1.1 | C59: Geodetska dela
A61: 1 | B61: 11 123 | C61: Obnova in zavarovanje zakoličbe osi trase ostale javne ceste v hribovitem terenu | D61: km | E61: 0.43 | G61: =E61*F61 -> 0
A63: 2 | B63: 11 223 | C63: Postavitev in zavarovanje prečnega profila ostale javne ceste v hribovitem terenu | D63: kos | E63: 43 | G63: =E63*F63 -> 0
B65: 1.2 | C65: Čiščenje terena | G65: =IF(ISBLANK(E65),"",IF(ISBLANK(F65),"",E65*F65))
B67: 1.2.1 | C67: Odstranitev grmovja, dreves, vej in panjev | G67: =IF(ISBLANK(E67),"",IF(ISBLANK(F67),"",E67*F67))
A69: 3 | B69: 12 111 | C69: Odstranitev grmovja na redko porasli površini (do 50 % pokritega tlorisa) - ročno (ocena) in z odvozom | D69: m2 | E69: 415 | G69: =E69*F69 -> 0
A71: 4 | B71: 12 131 | C71: Odstranitev grmovja in dreves z debli premera do 10 cm ter vej na redko porasli površini - ročno (ocena) in z odvozom | D71: m2 | E71: 332 | G71: =E71*F71 -> 0
A73: 5 | B73: 12 151 | C73: Posek in odstranitev drevesa z deblom premera 11 do 30 cm ter odstranitev vej (ocena) in z odvozom | D73: kos | E73: 42 | G73: =E73*F73 -> 0
A75: 6 | B75: 12 152 | C75: Posek in odstranitev drevesa z deblom premera 31 do 50 cm ter odstranitev vej (ocena) in z odvozom | D75: kos | E75: 42 | G75: =E75*F75 -> 0
A77: 7 | B77: 12 163 | C77: Odstranitev panja s premerom 11 do 30 cm z odvozom na deponijo po izbiri izvajalca | D77: kos | E77: 42 | G77: =E77*F77 -> 0
A79: 8 | B79: 12 166 | C79: Odstranitev panja s premerom 31 do 50 cm z odvozom na deponijo po izbiri izvajalca | D79: kos | E79: 42 | G79: =E79*F79 -> 0
B81: 1.2.2 | C81: Odstranitev prometne signalizacije in opreme | G81: =IF(ISBLANK(E81),"",IF(ISBLANK(F81),"",E81*F81))
A83: 9 | B83: 12 231 | C83: Demontaža jeklene varnostne ograje | D83: m1 | E83: 84 | G83: =E83*F83 -> 0
B85: 1.2.3 | C85: Porušitev in odstranitev voziščnih konstrukcij
A87: 10 | B87: - | C87: Odstranitev in odvoz kovinskih drežnikov | D87: m1 | E87: 49 | G87: =E87*F87 -> 0
A89: 11 | B89: - | C89: Odstranitev obstoječih betonskih kanalet | D89: m1 | E89: 36 | G89: =E89*F89 -> 0
B91: 1.3 | C91: Ostala preddela | G91: =IF(ISBLANK(E91),"",IF(ISBLANK(F91),"",E91*F91))
B93: 1.3.1 | C93: Omejitve prometa | G93: =IF(ISBLANK(E93),"",IF(ISBLANK(F93),"",E93*F93))
G94: =IF(ISBLANK(E94),"",IF(ISBLANK(F94),"",E94*F94))
A95: 12 | B95: 13 111 | C95: Zavarovanje gradbišča v času gradnje s polovično zaporo prometa in usmerjanjem s semaforji (predvideno ves čas gradnje) | D95: kom | E95: 1 | G95: =E95*F95 -> 0
C98: Skupaj 1.0 | G98: =SUM(G57:G97) -> 0
B101: 2. | C101: ZEMELJSKA DELA IN TEMELJENJE | G101: =IF(ISBLANK(E101),"",IF(ISBLANK(F101),"",E101*F101))
B103: 2.1 | C103: Izkopi
A105: 1 | B105: 21 234 | C105: Široki izkop zrnate kamnine – 3. kategorije – strojno z nakladanjem (za voziščno konstrukcijo) - 50% potrebnega izkopa za voziščno konstrukcijo | D105: m3 | E105: 1373 | G105: =E105*F105 -> 0
A107: 2 | B107: 21 234 | C107: Široki izkop zrnate kamnine – 3. kategorije – strojno z nakladanjem (brežina) - 25% potrebnega izkopa brežine | D107: m3 | E107: 358 | G107: =E107*F107 -> 0
A109: 3 | B109: 21 234 | C109: Široki izkop zrnate kamnine – 3. kategorije – strojno z nakladanjem (izogibališča) | D109: m3 | E109: 19 | G109: =E109*F109 -> 0
A111: 4 | B111: 21 243 | C111: Široki izkop mehke kamnine – 4. kategorije z nakladanjem (za voziščno konstrukcijo) - 40% potrebnega izkopa za voziščno konstrukcijo | D111: m3 | E111: 1100 | G111: =E111*F111 -> 0
A113: 5 | B113: 21 243 | C113: Široki izkop mehke kamnine – 4. kategorije z nakladanjem (brežina) - 35% potrebnega izkopa brežine | D113: m3 | E113: 502 | G113: =E113*F113 -> 0
A115: 6 | B115: 21 253 | C115: Široki izkop trde kamnine – 5. kategorije z nakladanjem (brežina) - 10% potrebnega izkopa za voziščno konstrukcijo | D115: m3 | E115: 573 | G115: =E115*F115 -> 0
A117: 7 | B117: 21 253 | C117: Široki izkop trde kamnine – 5. kategorije z nakladanjem (brežina) - 40% potrebnega izkopa brežine | D117: m3 | E117: 275 | G117: =E117*F117 -> 0
B121: 2.2 | C121: Planum temeljnih tal | G121: =IF(ISBLANK(E121),"",IF(ISBLANK(F121),"",E121*F121))
A123: 8 | B123: 22 113 | C123: Ureditev planuma temeljnih tal zrnate kamnine – 3. kategorije (50%) | D123: m2 | E123: 1950 | G123: =E123*F123 -> 0
A125: 9 | B125: 22 114 | C125: Ureditev planuma temeljnih tal mehke kamnine – 4. kategorije (50%) | D125: m2 | E125: 1950 | G125: =E125*F125 -> 0
B127: 2.4 | C127: Nasipi, zasipi, klini, posteljica in glinasti naboj | G127: =IF(ISBLANK(E127),"",IF(ISBLANK(F127),"",E127*F127))
A129: 10 | B129: 24 112 | C129: Vgraditev nasipa iz zrnate kamnine – 3. kategorije (izkopni material) | D129: m3 | E129: 403 | G129: =E129*F129 -> 0
A131: 11 | B131: 24 214 | C131: Zasip z zrnato kamnino – 3. kategorije - strojno, z utrjevanjem po plasteh (drenaže, jaški, prepusti) (izkopni material) | D131: m3 | E131: 149 | G131: =E131*F131 -> 0
A133: 12 | B133: 24 476 | C133: Izdelava posteljice iz drobljenih kamnitih zrn v debelini do 50 cm frakcije do 100 mm | D133: m3 | E133: 1383 | G133: =E133*F133 -> 0
B135: 2.5 | C135: Brežine in zelenice | G135: =IF(ISBLANK(E135),"",IF(ISBLANK(F135),"",E135*F135))
A137: 13 | B137: 25 218 | C137: Zaščita brežine s težko sidrano mrežo, 1 sidro/2 m2 (ocena 30% vseh novih vkopov) - po detajlu | D137: m2 | E137: 500 | G137: =E137*F137 -> 0
A139: 14 | B139: 25 275 | C139: Zaščita brežine z lomljencem, vgrajenim v beton, po načrtu (iztoki iz prepustov) | D139: m2 | E139: 16 | G139: =E139*F139 -> 0
A141: 15 | B141: 25 275 | C141: Zaščita brežine z lomljencem, vgrajenim v beton, po načrtu (iztoki asfaltne mulde) | D141: m2 | E141: 6 | G141: =E141*F141 -> 0
A143: 17 | B143: 25 275 | C143: Zaščita brežine z lomljencem, vgrajenim v beton, (zavarovanje priključka gozdne vlake) | D143: m2 | E143: 0 | F143: 40 | G143: =IF(ISBLANK(E143),"",IF(ISBLANK(F143),"",E143*F143)) -> 0
A145: 16 | B145: 25 275 | C145: Zaščita brežine z lomljencem, vgrajenim v beton, po načrtu (zaščita brežine nad vtoki v jaške in prepuste) | D145: m2 | E145: 15 | G145: =E145*F145 -> 0
A147: 17 | B147: - | C147: Škarpiranje (čiščenje in izravnava) brežine (ocena) | D147: m2 | E147: 691 | G147: =E147*F147 -> 0
A149: 18 | B149: - | C149: Izravnava in planiranje terena, debelina nasipa do 20cm | D149: m2 | E149: 100 | G149: =E149*F149 -> 0
A151: 19 | B151: - | C151: Protierozijska zaščita brežine - zatravitev z rastno pulpo (travna mešanica z organskim lepilom nanešena na vkopne brežine) - ocena | D151: m2 | E151: 691 | G151: =E151*F151 -> 0
B153: 2.9 | C153: Prevozi, razprostiranje in ureditev deponij materiala | G153: =IF(ISBLANK(E153),"",IF(ISBLANK(F153),"",E153*F153))
A156: 20 | B156: 29 152 | C156: Nakladanje viška materiala na kamion z odvozom na stalno deponijo po izbiri izvajalca, razsprostiranjem materiala ter plačilom takse za deponirani material (v raščenem stanju) | D156: m3 | E156: 3408 | G156: =E156*F156 -> 0
A158: 21 | B158: - | C158: Odlaganje ruševin na depinijo (betonski jaški, prepusti, ograje...) | D158: m3 | E158: 2 | G158: =E158*F158 -> 0
C160: Skupaj 2.0 | G160: =SUM(G101:G159) -> 0
B163: 3. | C163: VOZIŠČNE KONSTRUKCIJE | G163: =IF(ISBLANK(E163),"",IF(ISBLANK(F163),"",E163*F163))
B165: 3.1 | C165: Nosilne plasti
B167: 3.1.1 | C167: Nevezane nosilne plasti
A169: 1 | B169: 31 132 | C169: Izdelava nevezane nosilne plasti enakomerno zrnatega drobljenca TD32 iz kamnine v debelini 21 do 30 cm | D169: m3 | E169: 945 | G169: =E169*F169 -> 0
A171: 2 | B171: 31 132 | C171: Izdelava nevezane nosilne plasti enakomerno zrnatega drobljenca TD32 iz kamnine v debelini 21 do 30 cm (izogibališča) | D171: m3 | E171: 18 | G171: =E171*F171 -> 0
B173: 3.1.3 | C173: Vezane zgornje nosilne in nosilnoobrabne plasti z bitumenskimi vezivi | G173: =IF(ISBLANK(E173),"",IF(ISBLANK(F173),"",E173*F173))
A175: 3 | B175: 31 654 | C175: Izdelava nosilne plasti bituminizirane zmesi AC 32 base B 70/100 A3 v debelini 8 cm | D175: m2 | E175: 2620 | G175: =E175*F175 -> 0
B177: 3.2 | C177: Obrabne plasti
B179: 3.2.1 | C179: Nevezane obrabne plasti | G179: =IF(ISBLANK(E179),"",IF(ISBLANK(F179),"",E179*F179))
A181: 4 | B181: 32 111 | C181: Izdelava nevezane (mehanično stabilizirane) obrabne plasti iz zmesi zrn drobljenca v debelini do 15 cm (gozdna pot) | D181: m3 | E181: 13.1 | G181: =E181*F181 -> 0
A183: 5 | B183: 32 111 | C183: Izdelava nevezane (mehanično stabilizirane) obrabne plasti iz zmesi zrn drobljenca v debelini do 15 cm (posip izogibališč 4cm) | D183: m3 | E183: 2.7 | G183: =E183*F183 -> 0
B185: 3.2.2 | C185: Asfaltne obrabne in zaporne plasti – bitumenski betoni – Asphalt concrete – surface (AC surf) | G185: =IF(ISBLANK(E185),"",IF(ISBLANK(F185),"",E185*F185))
A187: 6 | B187: 32 278 | C187: Izdelava obrabne in zaporne plasti bituminizirane zmesi AC 11 surf B 70/100 A3 v debelini 4 cm | D187: m2 | E187: 2620 | G187: =E187*F187 -> 0
A189: 7 | B189: - | C189: Čiščenje asfaltne nosilne plasti in premaz z bitumensko emulzijo pred polaganjem asfaltne obrabne plasti | D189: m2 | E189: 2620 | G189: =E189*F189 -> 0
B191: 3.5.2 | C191: Robniki | G191: =IF(ISBLANK(E191),"",IF(ISBLANK(F191),"",E191*F191))
A193: 8 | B193: 35 214 | C193: Dobava in vgraditev predfabriciranega dvignjenega robnika iz cementnega betona s prerezom 15/25 cm - ob koritnici | D193: m1 | E193: 31 | G193: =E193*F193 -> 0
B195: 3.6 | C195: Bankine | G195: =IF(ISBLANK(E195),"",IF(ISBLANK(F195),"",E195*F195))
A197: 9 | B197: 36 131 | C197: Izdelava bankine iz drobljenca, široke do 0,50 m | D197: m3 | E197: 63 | G197: =E197*F197 -> 0
A199: 10 | B199: 36 133 | C199: Izdelava bankine iz drobljenca, široke 0,76 do 1,00 m | D199: m3 | E199: 19.8 | G199: =E199*F199 -> 0
A201: 11 | B201: 36 211 | C201: Izdelava humuzirane bankine, široke do 0,50 m (berma) | D201: m2 | E201: 31 | G201: =E201*F201 -> 0
C203: Skupaj 3.0 | G203: =SUM(G163:G202) -> 0
B206: 4. | C206: ODVODNJAVANJE | G206: =IF(ISBLANK(E206),"",IF(ISBLANK(F206),"",E206*F206))
B208: 4.1 | C208: Površinsko odvodnjavanje
A210: 1 | B210: 41 341 | C210: Izdelava koritnice iz bitumenskega betona, debeline 4 cm, in bituminiziranega drobljenca, povprečne debeline 8 cm, ob že zgrajenem robniku, na obstoječo podlago, široke 50 cm | D210: m1 | E210: 31 | G210: =E210*F210 -> 0
A212: 2 | B212: - | C212: Izdelava asfaltne mulde ob vozišču, širine 50 cm in globine 6cm (BD 8 cm + BB 4cm) | D212: m1 | E212: 629 | G212: =E212*F212 -> 0
A214: 3 | B214: - | C214: Izdelava vtoka v jaške z lomljencem, vgrajenim v beton (zaščita jarka) | D214: m2 | E214: 4 | G214: =E214*F214 -> 0
A216: 4 | B216: - | C216: Izdelava zaščite plitvega jaraka/ mulde z lomljencem v betonu | D216: m2 | E216: 24 | G216: =E216*F216 -> 0
A218: 5 | B218: - | C218: Izdelava asfaltnega iztoka iz mulde na teren ali jarek | D218: kos | E218: 4 | G218: =E218*F218 -> 0
...

Sheet P359-etapa 3
B2: Številka projekta: P-359/16
B3: Številka načrta: N-359/16-C
B6: CESTA NA DEPONIJO KOMUNALNIH ODPADKOV
B7: MALA MEŽAKLA (LC 152160) - 3. DEL
B8: Rekonstrukcija ceste od km 1+960 do km 3+640 v dolžini 1680m
B10: IZN
B15: T.3.2.3 PROJEKTANTSKI PREDRAČUN
C18: - 3. etapa (km 2+820 - km 3+230)
B33: KRANJ, NOVEMBER 2016
C40: REKAPITULACIJA
B42: 1.0 | C42: PREDDELA | G42: =G96 -> 0
B43: 2.0 | C43: ZEMELJSKA DELA IN TEMELJENJE | G43: =G158 -> 0
B44: 3.0 | C44: VOZIŠČNE KONSTRUKCIJE | G44: =G195 -> 0
B45: 4.0 | C45: ODVODNJAVANJE | G45: =G240 -> 0
B46: 5.0 | C46: GRADBENA IN OBRTNIŠKA DELA | G46: =G245 -> 0
B47: 6.0 | C47: PROMETNA OPREMA | G47: =G268 -> 0
B48: 7.0 | C48: TUJE STORITVE | G48: =G284 -> 0
C50: SKUPAJ | G50: =IF(SUM(G42:G48)=0,"",SUM(G42:G48)) | K50: =G50/E61/1000 -> #VALUE! | L50: EUR/m1
C51: + DDV 22% | G51: =G50*0.22 -> #VALUE! | K51: =G50/E185 -> #VALUE! | L51: EUR/m2 asfalta
C52: VSE SKUPAJ | G52: =G50+G51 -> #VALUE!
A55: Zap.št. | B55: Šifra | C55: Opis del | D55: Enota | E55: Količina | F55: Cena | G55: Vrednost
B57: 1. | C57: PREDDELA
B59: 1.1 | C59: Geodetska dela
A61: 1 | B61: 11 123 | C61: Obnova in zavarovanje zakoličbe osi trase ostale javne ceste v hribovitem terenu | D61: km | E61: 0.41 | G61: =E61*F61 -> 0
A63: 2 | B63: 11 223 | C63: Postavitev in zavarovanje prečnega profila ostale javne ceste v hribovitem terenu | D63: kos | E63: 41 | G63: =E63*F63 -> 0
B65: 1.2 | C65: Čiščenje terena | G65: =IF(ISBLANK(E65),"",IF(ISBLANK(F65),"",E65*F65))
B67: 1.2.1 | C67: Odstranitev grmovja, dreves, vej in panjev | G67: =IF(ISBLANK(E67),"",IF(ISBLANK(F67),"",E67*F67))
A69: 3 | B69: 12 111 | C69: Odstranitev grmovja na redko porasli površini (do 50 % pokritega tlorisa) - ročno (ocena) in z odvozom | D69: m2 | E69: 140 | G69: =E69*F69 -> 0
A71: 4 | B71: 12 131 | C71: Odstranitev grmovja in dreves z debli premera do 10 cm ter vej na redko porasli površini - ročno (ocena) in z odvozom | D71: m2 | E71: 112 | G71: =E71*F71 -> 0
A73: 5 | B73: 12 151 | C73: Posek in odstranitev drevesa z deblom premera 11 do 30 cm ter odstranitev vej (ocena) in z odvozom | D73: kos | E73: 14 | G73: =E73*F73 -> 0
A75: 6 | B75: 12 152 | C75: Posek in odstranitev drevesa z deblom premera 31 do 50 cm ter odstranitev vej (ocena) in z odvozom | D75: kos | E75: 20 | G75: =E75*F75 -> 0
A77: 7 | B77: 12 163 | C77: Odstranitev panja s premerom 11 do 30 cm z odvozom na deponijo po izbiri izvajalca | D77: kos | E77: 14 | G77: =E77*F77 -> 0
A79: 8 | B79: 12 166 | C79: Odstranitev panja s premerom 31 do 50 cm z odvozom na deponijo po izbiri izvajalca | D79: kos | E79: 20 | G79: =E79*F79 -> 0
B81: 1.2.2 | C81: Odstranitev prometne signalizacije in opreme | G81: =IF(ISBLANK(E81),"",IF(ISBLANK(F81),"",E81*F81))
A83: 9 | B83: 12 231 | C83: Demontaža jeklene varnostne ograje | D83: m1 | E83: 84 | G83: =E83*F83 -> 0
B85: 1.2.4 | C85: Porušitev in odstranitev objektov | G85: =IF(ISBLANK(E85),"",IF(ISBLANK(F85),"",E85*F85))
A87: 10 | B87: - | C87: Odstranitev in odvoz kovinskih drežnikov | D87: m1 | E87: 32 | G87: =E87*F87 -> 0
B89: 1.3 | C89: Ostala preddela | G89: =IF(ISBLANK(E89),"",IF(ISBLANK(F89),"",E89*F89))
B91: 1.3.1 | C91: Omejitve prometa | G91: =IF(ISBLANK(E91),"",IF(ISBLANK(F91),"",E91*F91))
G92: =IF(ISBLANK(E92),"",IF(ISBLANK(F92),"",E92*F92))
A93: 11 | B93: 13 111 | C93: Zavarovanje gradbišča v času gradnje s polovično zaporo prometa in usmerjanjem s semaforji (predvideno za ves čas gradnje) | D93: kom | E93: 1 | G93: =E93*F93 -> 0
C96: Skupaj 1.0 | G96: =SUM(G57:G95) -> 0
B99: 2. | C99: ZEMELJSKA DELA IN TEMELJENJE | G99: =IF(ISBLANK(E99),"",IF(ISBLANK(F99),"",E99*F99))
B101: 2.1 | C101: Izkopi
A103: 1 | B103: 21 234 | C103: Široki izkop zrnate kamnine – 3. kategorije – strojno z nakladanjem (za voziščno konstrukcijo) - 50% potrebnega izkopa za voziščno konstrukcijo | D103: m3 | E103: 1150 | G103: =E103*F103 -> 0
A105: 2 | B105: 21 234 | C105: Široki izkop zrnate kamnine – 3. kategorije – strojno z nakladanjem (brežina) - 25% potrebnega izkopa brežine | D105: m3 | E105: 84 | G105: =E105*F105 -> 0
A107: 3 | B107: 21 234 | C107: Široki izkop zrnate kamnine – 3. kategorije – strojno z nakladanjem (izogibališča) | D107: m3 | E107: 62 | G107: =E107*F107 -> 0
A109: 4 | B109: 21 243 | C109: Široki izkop mehke kamnine – 4. kategorije z nakladanjem (za voziščno konstrukcijo) - 40% potrebnega izkopa za voziščno konstrukcijo | D109: m3 | E109: 920 | G109: =E109*F109 -> 0
A111: 5 | B111: 21 243 | C111: Široki izkop mehke kamnine – 4. kategorije z nakladanjem (brežina) - 35% potrebnega izkopa brežine | D111: m3 | E111: 118 | G111: =E111*F111 -> 0
A113: 6 | B113: 21 253 | C113: Široki izkop trde kamnine – 5. kategorije z nakladanjem (brežina) - 10% potrebnega izkopa za voziščno konstrukcijo | D113: m3 | E113: 230 | G113: =E113*F113 -> 0
A115: 7 | B115: 21 253 | C115: Široki izkop trde kamnine – 5. kategorije z nakladanjem (brežina) - 40% potrebnega izkopa brežine | D115: m3 | E115: 135 | G115: =E115*F115 -> 0
B120: 2.2 | C120: Planum temeljnih tal | G120: =IF(ISBLANK(E120),"",IF(ISBLANK(F120),"",E120*F120))
A122: 8 | B122: 22 113 | C122: Ureditev planuma temeljnih tal zrnate kamnine – 3. kategorije (50%) | D122: m2 | E122: 1714 | G122: =E122*F122 -> 0
A124: 9 | B124: 22 114 | C124: Ureditev planuma temeljnih tal mehke kamnine – 4. kategorije (50%) | D124: m2 | E124: 1714 | G124: =E124*F124 -> 0
B126: 2.4 | C126: Nasipi, zasipi, klini, posteljica in glinasti naboj | G126: =IF(ISBLANK(E126),"",IF(ISBLANK(F126),"",E126*F126))
A128: 10 | B128: 24 112 | C128: Vgraditev nasipa iz zrnate kamnine – 3. kategorije (izkopni material) | D128: m3 | E128: 11 | G128: =E128*F128 -> 0
A130: 11 | B130: 24 214 | C130: Zasip z zrnato kamnino – 3. kategorije - strojno, z utrjevanjem po plasteh (drenaže, jaški, prepusti) (izkopni material) | D130: m3 | E130: 189 | G130: =E130*F130 -> 0
A132: 12 | B132: 24 476 | C132: Izdelava posteljice iz drobljenih kamnitih zrn v debelini do 50 cm frakcije do 100 mm | D132: m3 | E132: 1168 | G132: =E132*F132 -> 0
B134: 2.5 | C134: Brežine in zelenice | G134: =IF(ISBLANK(E134),"",IF(ISBLANK(F134),"",E134*F134))
A136: 13 | B136: 25 218 | C136: Zaščita brežine s težko sidrano mrežo, 1 sidro/2 m2 (ocena 30% vseh novih vkopov) - po detajlu | D136: m2 | E136: 170 | G136: =E136*F136 -> 0
A138: 14 | B138: 25 275 | C138: Zaščita brežine z lomljencem, vgrajenim v beton, po načrtu (iztoki iz prepustov) | D138: m2 | E138: 16 | G138: =E138*F138 -> 0
A140: 15 | B140: 25 275 | C140: Zaščita brežine z lomljencem, vgrajenim v beton, po načrtu (iztoki asfaltne mulde) | D140: m2 | E140: 7.5 | G140: =E140*F140 -> 0
A142: 17 | B142: 25 275 | C142: Zaščita brežine z lomljencem, vgrajenim v beton, (zavarovanje priključka gozdne vlake) | D142: m2 | E142: 0 | F142: 40 | G142: =IF(ISBLANK(E142),"",IF(ISBLANK(F142),"",E142*F142)) -> 0
A144: 16 | B144: 25 275 | C144: Zaščita brežine z lomljencem, vgrajenim v beton, po načrtu (zaščita brežine nad vtoki v jaške in prepuste) | D144: m2 | E144: 6 | G144: =E144*F144 -> 0
A146: 17 | B146: - | C146: Škarpiranje (čiščenje in izravnava) brežine (ocena) | D146: m2 | E146: 252 | G146: =E146*F146 -> 0
A148: 18 | B148: - | C148: Izravnava in planiranje terena, debelina nasipa do 20cm | D148: m2 | E148: 158 | G148: =E148*F148 -> 0
A150: 19 | B150: - | C150: Protierozijska zaščita brežine - zatravitev z rastno pulpo (travna mešanica z organskim lepilom nanešena na vkopne brežine) - ocena | D150: m2 | E150: 252 | G150: =E150*F150 -> 0
B152: 2.9 | C152: Prevozi, razprostiranje in ureditev deponij materiala | G152: =IF(ISBLANK(E152),"",IF(ISBLANK(F152),"",E152*F152))
A155: 20 | B155: - | C155: Odlaganje ruševin na depinijo (betonski jaški, prepusti, ograje...) | D155: m3 | E155: 2 | G155: =E155*F155 -> 0
C156: Nakladanje viška izkopnega materiala na kamion z odvozom na stalno deponijo po izbiri izvajalca, z razprostiranjem materialom ter plačilom takse za deponirani material | D156: m3 | E156: 2470 | G156: =E156*F156 -> 0
C158: Skupaj 2.0 | G158: =SUM(G99:G157) -> 0
B161: 3. | C161: VOZIŠČNE KONSTRUKCIJE | G161: =IF(ISBLANK(E161),"",IF(ISBLANK(F161),"",E161*F161))
B163: 3.1 | C163: Nosilne plasti
B165: 3.1.1 | C165: Nevezane nosilne plasti
A167: 1 | B167: 31 132 | C167: Izdelava nevezane nosilne plasti enakomerno zrnatega drobljenca TD32 iz kamnine v debelini 21 do 30 cm | D167: m3 | E167: 829 | G167: =E167*F167 -> 0
A169: 2 | B169: 31 132 | C169: Izdelava nevezane nosilne plasti enakomerno zrnatega drobljenca TD32 iz kamnine v debelini 21 do 30 cm (izogibališča) | D169: m3 | E169: 52 | G169: =E169*F169 -> 0
B171: 3.1.3 | C171: Vezane zgornje nosilne in nosilnoobrabne plasti z bitumenskimi vezivi | G171: =IF(ISBLANK(E171),"",IF(ISBLANK(F171),"",E171*F171))
A173: 3 | B173: 31 654 | C173: Izdelava nosilne plasti bituminizirane zmesi AC 32 base B 70/100 A3 v debelini 8 cm | D173: m2 | E173: 2306 | G173: =E173*F173 -> 0
B175: 3.2 | C175: Obrabne plasti
B177: 3.2.1 | C177: Nevezane obrabne plasti | G177: =IF(ISBLANK(E177),"",IF(ISBLANK(F177),"",E177*F177))
A179: 4 | B179: 32 111 | C179: Izdelava nevezane (mehanično stabilizirane) obrabne plasti iz zmesi zrn drobljenca v debelini do 15 cm (gozdna pot) | D179: m3 | E179: 4.2 | G179: =E179*F179 -> 0
A181: 5 | B181: 32 111 | C181: Izdelava nevezane (mehanično stabilizirane) obrabne plasti iz zmesi zrn drobljenca v debelini do 15 cm (posip izogibališč 4cm) | D181: m3 | E181: 8 | G181: =E181*F181 -> 0
B183: 3.2.2 | C183: Asfaltne obrabne in zaporne plasti – bitumenski betoni – Asphalt concrete – surface (AC surf) | G183: =IF(ISBLANK(E183),"",IF(ISBLANK(F183),"",E183*F183))
A185: 6 | B185: 32 278 | C185: Izdelava obrabne in zaporne plasti bituminizirane zmesi AC 11 surf B 70/100 A3 v debelini 4 cm | D185: m2 | E185: 2306 | G185: =E185*F185 -> 0
A187: 7 | B187: - | C187: Čiščenje asfaltne nosilne plasti in premaz z bitumensko emulzijo pred polaganjem asfaltne obrabne plasti | D187: m2 | E187: 2306 | G187: =E187*F187 -> 0
B189: 3.6 | C189: Bankine | G189: =IF(ISBLANK(E189),"",IF(ISBLANK(F189),"",E189*F189))
A191: 8 | B191: 36 131 | C191: Izdelava bankine iz drobljenca, široke do 0,50 m | D191: m3 | E191: 64.7 | G191: =E191*F191 -> 0
A193: 9 | B193: 36 133 | C193: Izdelava bankine iz drobljenca, široke 0,76 do 1,00 m | D193: m3 | E193: 17.4 | G193: =E193*F193 -> 0
C195: Skupaj 3.0 | G195: =SUM(G161:G194) -> 0
B198: 4. | C198: ODVODNJAVANJE | G198: =IF(ISBLANK(E198),"",IF(ISBLANK(F198),"",E198*F198))
B200: 4.1 | C200: Površinsko odvodnjavanje
A202: 1 | B202: - | C202: Izdelava asfaltne mulde ob vozišču, širine 50 cm in globine 6cm (BD 8cm + BB 4cm) | D202: m1 | E202: 657 | G202: =E202*F202 -> 0
A204: 2 | B204: - | C204: Izdelava vtoka v jaške z lomljencem, vgrajenim v beton (zaščita jarka) | D204: m2 | E204: 7 | G204: =E204*F204 -> 0
A206: 3 | B206: - | C206: Izdelava asfaltnega iztoka iz mulde na teren ali jarek | D206: kos | E206: 5 | G206: =E206*F206 -> 0
A208: 4 | B208: - | C208: Izdelava iztoka iz asfaltne mulde v jašek | D208: kos | E208: 2 | G208: =E208*F208 -> 0
B210: 4.2 | C210: Globinsko odvodnjavanje - drenaže | G210: =IF(ISBLANK(E210),"",IF(ISBLANK(F210),"",E210*F210))
A212: 5 | B212: 42 163 | C212: Izdelava vzdolžne in prečne drenaže, globoke do 1,0 m, na podložni plasti iz cementnega betona, s trdimi plastičnimi cevmi premera 15 cm in filtrskim obsipom, zaščita filtrskega nasipa z geotekstilom ter izkopom (45 % III. ktg, 45 % IV. ktg in 10 % V. ktg) | D212: m1 | E212: 410 | G212: =E212*F212 -> 0
A214: 6 | B214: - | C214: Ureditev iztoka drenaže v jaške | D214: kos | E214: 8 | G214: =E214*F214 -> 0
B216: 4.4 | C216: Jaški | G216: =IF(ISBLANK(E216),"",IF(ISBLANK(F216),"",E216*F216))
A218: 7 | B218: 44 162 | C218: Izdelava jaška iz cementnega betona, krožnega prereza s premerom 80 cm, globokega 1,0 do 1,5 m | D218: kos | E218: 6 | G218: =E218*F218 -> 0
...

Sheet P359-etapa 4
B2: Številka projekta: P-359/16
B3: Številka načrta: N-359/16-C
B6: CESTA NA DEPONIJO KOMUNALNIH ODPADKOV
B7: MALA MEŽAKLA (LC 152160) - 3. DEL
B8: Rekonstrukcija ceste od km 1+960 do km 3+640 v dolžini 1680m
B10: IZN
B15: T.3.2.4 PROJEKTANTSKI PREDRAČUN
C18: - 4. etapa (km 3+230 - km 3+640)
B33: KRANJ, NOVEMBER 2016
C40: REKAPITULACIJA
B42: 1.0 | C42: PREDDELA | G42: =G102 -> 0
B43: 2.0 | C43: ZEMELJSKA DELA IN TEMELJENJE | G43: =G163 -> 0
B44: 3.0 | C44: VOZIŠČNE KONSTRUKCIJE | G44: =G200 -> 0
B45: 4.0 | C45: ODVODNJAVANJE | G45: =G265 -> 0
B46: 5.0 | C46: GRADBENA IN OBRTNIŠKA DELA | G46: =G270 -> 0
B47: 6.0 | C47: PROMETNA OPREMA | G47: =G301 -> 0
B48: 7.0 | C48: TUJE STORITVE | G48: =G317 -> 0
C50: SKUPAJ | G50: =IF(SUM(G42:G48)=0,"",SUM(G42:G48)) | K50: =G50/E61/1000 -> #VALUE! | L50: EUR/m1
C51: + DDV 22% | G51: =G50*0.22 -> #VALUE! | K51: =G50/E190 -> #VALUE! | L51: EUR/m2 asfalta
C52: VSE SKUPAJ | G52: =G50+G51 -> #VALUE!
A55: Zap.št. | B55: Šifra | C55: Opis del | D55: Enota | E55: Količina | F55: Cena | G55: Vrednost
B57: 1. | C57: PREDDELA
B59: 1.1 | C59: Geodetska dela
A61: 1 | B61: 11 123 | C61: Obnova in zavarovanje zakoličbe osi trase ostale javne ceste v hribovitem terenu | D61: km | E61: 0.41 | G61: =E61*F61 -> 0
A63: 2 | B63: 11 223 | C63: Postavitev in zavarovanje prečnega profila ostale javne ceste v hribovitem terenu | D63: kos | E63: 41 | G63: =E63*F63 -> 0
B65: 1.2 | C65: Čiščenje terena | G65: =IF(ISBLANK(E65),"",IF(ISBLANK(F65),"",E65*F65))
B67: 1.2.1 | C67: Odstranitev grmovja, dreves, vej in panjev | G67: =IF(ISBLANK(E67),"",IF(ISBLANK(F67),"",E67*F67))
A69: 3 | B69: 12 111 | C69: Odstranitev grmovja na redko porasli površini (do 50 % pokritega tlorisa) - ročno (ocena) in z odvozom | D69: m2 | E69: 280 | G69: =E69*F69 -> 0
A71: 4 | B71: 12 131 | C71: Odstranitev grmovja in dreves z debli premera do 10 cm ter vej na redko porasli površini - ročno (ocena) in z odvozom | D71: m2 | E71: 224 | G71: =E71*F71 -> 0
A73: 5 | B73: 12 151 | C73: Posek in odstranitev drevesa z deblom premera 11 do 30 cm ter odstranitev vej (ocena) in z odvozom | D73: kos | E73: 40 | G73: =E73*F73 -> 0
A75: 6 | B75: 12 152 | C75: Posek in odstranitev drevesa z deblom premera 31 do 50 cm ter odstranitev vej (ocena) in z odvozom | D75: kos | E75: 40 | G75: =E75*F75 -> 0
A77: 7 | B77: 12 163 | C77: Odstranitev panja s premerom 11 do 30 cm z odvozom na deponijo po izbiri izvajalca | D77: kos | E77: 40 | G77: =E77*F77 -> 0
A79: 8 | B79: 12 166 | C79: Odstranitev panja s premerom 31 do 50 cm z odvozom na deponijo po izbiri izvajalca | D79: kos | E79: 40 | G79: =E79*F79 -> 0
B81: 1.2.2 | C81: Odstranitev prometne signalizacije in opreme | G81: =IF(ISBLANK(E81),"",IF(ISBLANK(F81),"",E81*F81))
A83: 9 | B83: 12 231 | C83: Demontaža jeklene varnostne ograje | D83: m1 | E83: 64 | G83: =E83*F83 -> 0
B85: 1.2.3 | C85: Porušitev in odstranitev voziščnih konstrukcij
A87: 10 | B87: 12 323 | C87: Porušitev in odstranitev asfaltne plasti v debelini 10 do 15 cm | D87: m2 | E87: 33 | G87: =E87*F87 -> 0
A89: 11 | B89: 12 383 | C89: Rezanje asfaltne plasti s talno diamantno žago, debele 10 do 15 cm | D89: m1 | E89: 5.6 | G89: =E89*F89 -> 0
B91: 1.2.4 | C91: Porušitev in odstranitev objektov | G91: =IF(ISBLANK(E91),"",IF(ISBLANK(F91),"",E91*F91))
A93: 12 | B93: - | C93: Odstranitev in odvoz kovinskih drežnikov | D93: m1 | E93: 36 | G93: =E93*F93 -> 0
B95: 1.3 | C95: Ostala preddela | G95: =IF(ISBLANK(E95),"",IF(ISBLANK(F95),"",E95*F95))
B97: 1.3.1 | C97: Omejitve prometa | G97: =IF(ISBLANK(E97),"",IF(ISBLANK(F97),"",E97*F97))
G98: =IF(ISBLANK(E98),"",IF(ISBLANK(F98),"",E98*F98))
A99: 13 | B99: 13 111 | C99: Zavarovanje gradbišča v času gradnje s polovično zaporo prometa in usmerjanjem s semaforji, predvideno za ves čas gradnje | D99: dan | E99: 30 | G99: =E99*F99 -> 0
C102: Skupaj 1.0 | G102: =SUM(G57:G101) -> 0
B105: 2. | C105: ZEMELJSKA DELA IN TEMELJENJE | G105: =IF(ISBLANK(E105),"",IF(ISBLANK(F105),"",E105*F105))
B107: 2.1 | C107: Izkopi
A109: 1 | B109: 21 234 | C109: Široki izkop zrnate kamnine – 3. kategorije – strojno z nakladanjem (za voziščno konstrukcijo) - 50% potrebnega izkopa za voziščno konstrukcijo | D109: m3 | E109: 1239 | G109: =E109*F109 -> 0
A111: 2 | B111: 21 234 | C111: Široki izkop zrnate kamnine – 3. kategorije – strojno z nakladanjem (brežina) - 25% potrebnega izkopa brežine | D111: m3 | E111: 325 | G111: =E111*F111 -> 0
A113: 3 | B113: 21 234 | C113: Široki izkop zrnate kamnine – 3. kategorije – strojno z nakladanjem (izogibališča) | D113: m3 | E113: 99 | G113: =E113*F113 -> 0
A115: 4 | B115: 21 243 | C115: Široki izkop mehke kamnine – 4. kategorije z nakladanjem (za voziščno konstrukcijo) - 40% potrebnega izkopa za voziščno konstrukcijo | D115: m3 | E115: 992 | G115: =E115*F115 -> 0
A117: 5 | B117: 21 243 | C117: Široki izkop mehke kamnine – 4. kategorije z nakladanjem (brežina) - 35% potrebnega izkopa brežine | D117: m3 | E117: 454 | G117: =E117*F117 -> 0
A119: 6 | B119: 21 253 | C119: Široki izkop trde kamnine – 5. kategorije z nakladanjem (brežina) - 10% potrebnega izkopa za voziščno konstrukcijo | D119: m3 | E119: 248 | G119: =E119*F119 -> 0
A121: 7 | B121: 21 253 | C121: Široki izkop trde kamnine – 5. kategorije z nakladanjem (brežina) - 40% potrebnega izkopa brežine | D121: m3 | E121: 518 | G121: =E121*F121 -> 0
B124: 2.2 | C124: Planum temeljnih tal | G124: =IF(ISBLANK(E124),"",IF(ISBLANK(F124),"",E124*F124))
A126: 8 | B126: 22 113 | C126: Ureditev planuma temeljnih tal zrnate kamnine – 3. kategorije (50%) | D126: m2 | E126: 1971 | G126: =E126*F126 -> 0
A128: 9 | B128: 22 114 | C128: Ureditev planuma temeljnih tal mehke kamnine – 4. kategorije (50%) | D128: m2 | E128: 1971 | G128: =E128*F128 -> 0
B130: 2.4 | C130: Nasipi, zasipi, klini, posteljica in glinasti naboj | G130: =IF(ISBLANK(E130),"",IF(ISBLANK(F130),"",E130*F130))
A132: 10 | B132: 24 112 | C132: Vgraditev nasipa iz zrnate kamnine – 3. kategorije (izkopni material) | D132: m3 | E132: 74 | G132: =E132*F132 -> 0
A134: 11 | B134: 24 214 | C134: Zasip z zrnato kamnino – 3. kategorije - strojno, z utrjevanjem po plasteh (drenaže, jaški, prepusti) (izkopni material) | D134: m3 | E134: 86 | G134: =E134*F134 -> 0
A136: 12 | B136: 24 476 | C136: Izdelava posteljice iz drobljenih kamnitih zrn v debelini do 50 cm frakcije do 100 mm | D136: m3 | E136: 1283 | G136: =E136*F136 -> 0
B138: 2.5 | C138: Brežine in zelenice | G138: =IF(ISBLANK(E138),"",IF(ISBLANK(F138),"",E138*F138))
A140: 13 | B140: 25 218 | C140: Zaščita brežine s težko sidrano mrežo, 1 sidro/2 m2 (ocena 30% vseh novih vkopov) - po detajlu | D140: m2 | E140: 400 | G140: =E140*F140 -> 0
A142: 14 | B142: 25 275 | C142: Zaščita brežine z lomljencem, vgrajenim v beton, po načrtu (iztoki iz prepustov) | D142: m2 | E142: 12 | G142: =E142*F142 -> 0
A144: 15 | B144: 25 275 | C144: Zaščita brežine z lomljencem, vgrajenim v beton, po načrtu (iztoki asfaltne mulde) | D144: m2 | E144: 4.5 | G144: =E144*F144 -> 0
A146: 17 | B146: 25 275 | C146: Zaščita brežine z lomljencem, vgrajenim v beton, (zavarovanje priključka gozdne vlake) | D146: m2 | E146: 0 | F146: 40 | G146: =IF(ISBLANK(E146),"",IF(ISBLANK(F146),"",E146*F146)) -> 0
A148: 16 | B148: 25 275 | C148: Zaščita brežine z lomljencem, vgrajenim v beton, po načrtu (zaščita brežine nad vtoki v jaške in prepuste) | D148: m2 | E148: 6 | G148: =E148*F148 -> 0
A150: 17 | B150: - | C150: Škarpiranje (čiščenje in izravnava) brežine (ocena) | D150: m2 | E150: 508 | G150: =E150*F150 -> 0
A152: 18 | B152: - | C152: Izravnava in planiranje terena, debelina nasipa do 20cm | D152: m2 | E152: 158 | G152: =E152*F152 -> 0
A154: 19 | B154: - | C154: Protierozijska zaščita brežine - zatravitev z rastno pulpo (travna mešanica z organskim lepilom nanešena na vkopne brežine) - ocena | D154: m2 | E154: 508 | G154: =E154*F154 -> 0
B156: 2.9 | C156: Prevozi, razprostiranje in ureditev deponij materiala | G156: =IF(ISBLANK(E156),"",IF(ISBLANK(F156),"",E156*F156))
C158: Nakladanje viška izkopnega materiala na kamion z odvozom na stalno deponijo po izbiri izvajalca, z razprostiranjem materialom ter plačilom takse za deponirani material | D158: m3 | E158: 3800 | G158: =E158*F158 -> 0
A159: 20 | B159: 29 153 | C159: Odlaganje odpadnega asfalta na komunalno deponijo | D159: t | E159: =E87*0.13*2.2 -> 9.438 | G159: =E159*F159 -> 0
A161: 21 | B161: - | C161: Odlaganje ruševin na deponijo (betonski jaški, prepusti, ograje...) | D161: m3 | E161: 2 | G161: =E161*F161 -> 0
C163: Skupaj 2.0 | G163: =SUM(G105:G162) -> 0
B166: 3. | C166: VOZIŠČNE KONSTRUKCIJE | G166: =IF(ISBLANK(E166),"",IF(ISBLANK(F166),"",E166*F166))
B168: 3.1 | C168: Nosilne plasti
B170: 3.1.1 | C170: Nevezane nosilne plasti
A172: 1 | B172: 31 132 | C172: Izdelava nevezane nosilne plasti enakomerno zrnatega drobljenca TD32 iz kamnine v debelini 21 do 30 cm | D172: m3 | E172: 949 | G172: =E172*F172 -> 0
A174: 2 | B174: 31 132 | C174: Izdelava nevezane nosilne plasti enakomerno zrnatega drobljenca TD32 iz kamnine v debelini 21 do 30 cm (izogibališča) | D174: m3 | E174: 71 | G174: =E174*F174 -> 0
B176: 3.1.3 | C176: Vezane zgornje nosilne in nosilnoobrabne plasti z bitumenskimi vezivi | G176: =IF(ISBLANK(E176),"",IF(ISBLANK(F176),"",E176*F176))
A178: 3 | B178: 31 654 | C178: Izdelava nosilne plasti bituminizirane zmesi AC 32 base B 70/100 A3 v debelini 8 cm | D178: m2 | E178: 2716 | G178: =E178*F178 -> 0
B180: 3.2 | C180: Obrabne plasti
B182: 3.2.1 | C182: Nevezane obrabne plasti | G182: =IF(ISBLANK(E182),"",IF(ISBLANK(F182),"",E182*F182))
A184: 4 | B184: 32 111 | C184: Izdelava nevezane (mehanično stabilizirane) obrabne plasti iz zmesi zrn drobljenca v debelini do 15 cm (gozdna pot) | D184: m3 | E184: 4.7 | G184: =E184*F184 -> 0
A186: 5 | B186: 32 111 | C186: Izdelava nevezane (mehanično stabilizirane) obrabne plasti iz zmesi zrn drobljenca v debelini do 15 cm (posip izogibališč 4cm) | D186: m3 | E186: 10.9 | G186: =E186*F186 -> 0
B188: 3.2.2 | C188: Asfaltne obrabne in zaporne plasti – bitumenski betoni – Asphalt concrete – surface (AC surf) | G188: =IF(ISBLANK(E188),"",IF(ISBLANK(F188),"",E188*F188))
A190: 6 | B190: 32 278 | C190: Izdelava obrabne in zaporne plasti bituminizirane zmesi AC 11 surf B 70/100 A3 v debelini 4 cm | D190: m2 | E190: 2716 | G190: =E190*F190 -> 0
A192: 7 | B192: - | C192: Čiščenje asfaltne nosilne plasti in premaz z bitumensko emulzijo pred polaganjem asfaltne obrabne plasti | D192: m2 | E192: 2716 | G192: =E192*F192 -> 0
B194: 3.6 | C194: Bankine | G194: =IF(ISBLANK(E194),"",IF(ISBLANK(F194),"",E194*F194))
A196: 8 | B196: 36 131 | C196: Izdelava bankine iz drobljenca, široke do 0,50 m | D196: m3 | E196: 62 | G196: =E196*F196 -> 0
A198: 9 | B198: 36 133 | C198: Izdelava bankine iz drobljenca, široke 0,76 do 1,00 m | D198: m3 | E198: 19.4 | G198: =E198*F198 -> 0
C200: Skupaj 3.0 | G200: =SUM(G166:G199) -> 0
B203: 4. | C203: ODVODNJAVANJE | G203: =IF(ISBLANK(E203),"",IF(ISBLANK(F203),"",E203*F203))
B205: 4.1 | C205: Površinsko odvodnjavanje
A207: 1 | B207: - | C207: Izdelava asfaltne mulde ob vozišču, širine 50 cm in globine 6cm (BD 8 cm + BB 4cm) | D207: m1 | E207: 599 | G207: =E207*F207 -> 0
A209: 2 | B209: - | C209: Izdelava vtoka v jaške z lomljencem, vgrajenim v beton (zaščita jarka) | D209: m2 | E209: 4.3 | G209: =E209*F209 -> 0
A211: 3 | B211: - | C211: Izdelava zaščite plitvega jaraka/ mulde z lomljencem v betonu | D211: m2 | E211: 27 | G211: =E211*F211 -> 0
A213: 4 | B213: - | C213: Izdelava asfaltnega iztoka iz mulde na teren ali jarek | D213: kos | E213: 4 | G213: =E213*F213 -> 0
A215: 5 | B215: - | C215: Izdelava iztoka iz asfaltne mulde v jašek | D215: kos | E215: 1 | G215: =E215*F215 -> 0
...

Sheet P359-rakapitulacija
B2: Številka projekta: P-359/16
B3: Številka načrta: N-359/16-C
B6: CESTA NA DEPONIJO KOMUNALNIH ODPADKOV
B7: MALA MEŽAKLA (LC 152160) - 3. DEL
B8: Rekonstrukcija ceste od km 1+960 do km 3+640 v dolžini 1680m
B10: IZN
A15: T.3.2 PROJEKTANTSKI PREDRAČUN
B18: - skupna rekapitulacja
A33: KRANJ, NOVEMBER 2016
B40: REKAPITULACIJA
D42: 1. etapa | E42: 2. etapa | F42: 3. etapa | G42: 4. etapa | H42: skupaj
A43: 1.0 | B43: PREDDELA | D43: ='P359-etapa 1'!G42 -> 0 | E43: ='P359-etapa 2'!G42 -> 0 | F43: ='P359-etapa 3'!G42 -> 0 | G43: ='P359-etapa 4'!G42 -> 0 | H43: =SUM(D43:G43) -> 0
A44: 2.0 | B44: ZEMELJSKA DELA IN TEMELJENJE | D44: ='P359-etapa 1'!G43 -> 0 | E44: ='P359-etapa 2'!G43 -> 0 | F44: ='P359-etapa 3'!G43 -> 0 | G44: ='P359-etapa 4'!G43 -> 0 | H44: =SUM(D44:G44) -> 0
A45: 3.0 | B45: VOZIŠČNE KONSTRUKCIJE | D45: ='P359-etapa 1'!G44 -> 0 | E45: ='P359-etapa 2'!G44 -> 0 | F45: ='P359-etapa 3'!G44 -> 0 | G45: ='P359-etapa 4'!G44 -> 0 | H45: =SUM(D45:G45) -> 0
A46: 4.0 | B46: ODVODNJAVANJE | D46: ='P359-etapa 1'!G45 -> 0 | E46: ='P359-etapa 2'!G45 -> 0 | F46: ='P359-etapa 3'!G45 -> 0 | G46: ='P359-etapa 4'!G45 -> 0 | H46: =SUM(D46:G46) -> 0
A47: 5.0 | B47: GRADBENA IN OBRTNIŠKA DELA | D47: ='P359-etapa 1'!G46 -> 0 | E47: ='P359-etapa 2'!G46 -> 0 | F47: ='P359-etapa 3'!G46 -> 0 | G47: ='P359-etapa 4'!G46 -> 0 | H47: =SUM(D47:G47) -> 0
A48: 6.0 | B48: PROMETNA OPREMA | D48: ='P359-etapa 1'!G47 -> 0 | E48: ='P359-etapa 2'!G47 -> 0 | F48: ='P359-etapa 3'!G47 -> 0 | G48: ='P359-etapa 4'!G47 -> 0 | H48: =SUM(D48:G48) -> 0
A49: 7.0 | B49: TUJE STORITVE | D49: ='P359-etapa 1'!G48 -> 0 | E49: ='P359-etapa 2'!G48 -> 0 | F49: ='P359-etapa 3'!G48 -> 0 | G49: ='P359-etapa 4'!G48 -> 0 | H49: =SUM(D49:G49) -> 0
B51: SKUPAJ | D51: =IF(SUM(D43:D49)=0,"",SUM(D43:D49)) | E51: =IF(SUM(E43:E49)=0,"",SUM(E43:E49)) | F51: =IF(SUM(F43:F49)=0,"",SUM(F43:F49)) | G51: =IF(SUM(G43:G49)=0,"",SUM(G43:G49)) | H51: =IF(SUM(H43:H49)=0,"",SUM(H43:H49))
B52: DDV 22% | D52: =D51*0.22 -> #VALUE! | E52: =E51*0.22 -> #VALUE! | F52: =F51*0.22 -> #VALUE! | G52: =G51*0.22 -> #VALUE! | H52: =H51*0.22 -> #VALUE!
B53: VSE SKUPAJ | D53: =D52+D51 -> #VALUE! | E53: =E52+E51 -> #VALUE! | F53: =F52+F51 -> #VALUE! | G53: =G52+G51 -> #VALUE! | H53: =H52+H51 -> #VALUE!
