Workbook
Name Excel_BuiltIn_Print_Area: 'P359-rakapitulacija'!$A$1:$E$52
Name Excel_BuiltIn_Print_Titles: 'P359-rakapitulacija'!#REF!

Sheet P359-etapa 1
B2: Številka projekta: P-359/16
B3: Številka načrta: N-359/16-C
B6: CESTA NA DEPONIJO KOMUNALNIH ODPADKOV
B7: MALA MEŽAKLA (LC 152160) - 3. DEL
B8: Rekonstrukcija ceste od km 1+960 do km 3+640 v dolžini 1680m
B10: IZN
B15: T.3.2.1 PROJEKTANTSKI PREDRAČUN
C18: - 1. etapa (km 1+960 - km 2+390)
B33: KRANJ, NOVEMBER 2016
C40: REKAPITULACIJA
B42: 1.0 | C42: PREDDELA | G42: =G106 -> 0
B43: 2.0 | C43: ZEMELJSKA DELA IN TEMELJENJE | G43: =G169 -> 0
B44: 3.0 | C44: VOZIŠČNE KONSTRUKCIJE | G44: =G210 -> 0
B45: 4.0 | C45: ODVODNJAVANJE | G45: =G264 -> 0
B46: 5.0 | C46: GRADBENA IN OBRTNIŠKA DELA | G46: =G269 -> 0
B47: 6.0 | C47: PROMETNA OPREMA | G47: =G292 -> 0
B48: 7.0 | C48: TUJE STORITVE | G48: =G308 -> 0
C50: SKUPAJ | G50: =IF(SUM(G42:G48)=0,"",SUM(G42:G48)) | K50: =G50/E61/1000 -> #VALUE! | L50: EUR/m1
C51: + DDV 22% | G51: =G50*0.22 -> #VALUE! | K51: =G50/E194 -> #VALUE! | L51: EUR/m2 asfalta
C52: VSE SKUPAJ | G52: =G50+G51 -> #VALUE!
A55: Zap.št. | B55: Šifra | C55: Opis del | D55: Enota | E55: Količina | F55: Cena | G55: Vrednost
B57: 1. | C57: PREDDELA
B59: 1.1 | C59: Geodetska dela
A61: 1 | B61: 11 123 | C61: Obnova in zavarovanje zakoličbe osi trase ostale javne ceste v hribovitem terenu | D61: km | E61: 0.43 | G61: =E61*F61 -> 0
A63: 2 | B63: 11 223 | C63: Postavitev in zavarovanje prečnega profila ostale javne ceste v hribovitem terenu | D63: kos | E63: 43 | G63: =E63*F63 -> 0
B65: 1.2 | C65: Čiščenje terena | G65: =IF(ISBLANK(E65),"",IF(ISBLANK(F65),"",E65*F65))
B67: 1.2.1 | C67: Odstranitev grmovja, dreves, vej in panjev | G67: =IF(ISBLANK(E67),"",IF(ISBLANK(F67),"",E67*F67))
A69: 3 | B69: 12 111 | C69: Odstranitev grmovja na redko porasli površini (do 50 % pokritega tlorisa) - ročno (ocena) in z odvozom | D69: m2 | E69: 320 | G69: =E69*F69 -> 0
A71: 4 | B71: 12 131 | C71: Odstranitev grmovja in dreves z debli premera do 10 cm ter vej na redko porasli površini - ročno (ocena) in z odvozom | D71: m2 | E71: 255 | G71: =E71*F71 -> 0
A73: 5 | B73: 12 151 | C73: Posek in odstranitev drevesa z deblom premera 11 do 30 cm ter odstranitev vej (ocena) in z odvozom | D73: kos | E73: 32 | G73: =E73*F73 -> 0
A75: 6 | B75: 12 152 | C75: Posek in odstranitev drevesa z deblom premera 31 do 50 cm ter odstranitev vej (ocena) in z odvozom | D75: kos | E75: 32 | G75: =E75*F75 -> 0
A77: 7 | B77: 12 163 | C77: Odstranitev panja s premerom 11 do 30 cm z odvozom na deponijo po izbiri izvajalca | D77: kos | E77: 32 | G77: =E77*F77 -> 0
A79: 8 | B79: 12 166 | C79: Odstranitev panja s premerom 31 do 50 cm z odvozom na deponijo po izbiri izvajalca | D79: kos | E79: 32 | G79: =E79*F79 -> 0
B81: 1.2.2 | C81: Odstranitev prometne signalizacije in opreme | G81: =IF(ISBLANK(E81),"",IF(ISBLANK(F81),"",E81*F81))
A83: 9 | B83: 12 231 | C83: Demontaža jeklene varnostne ograje | D83: m1 | E83: 143 | G83: =E83*F83 -> 0
B85: 1.2.3 | C85: Porušitev in odstranitev voziščnih konstrukcij
A87: 10 | B87: 12 323 | C87: Porušitev in odstranitev asfaltne plasti v debelini 10 do 15 cm | D87: m2 | E87: 112 | G87: =E87*F87 -> 0
A89: 11 | B89: 12 383 | C89: Rezanje asfaltne plasti s talno diamantno žago, debele 10 do 15 cm | D89: m1 | E89: 6.3 | G89: =E89*F89 -> 0
B91: 1.2.4 | C91: Porušitev in odstranitev objektov | G91: =IF(ISBLANK(E91),"",IF(ISBLANK(F91),"",E91*F91))
A93: 12 | B93: 12 411 | C93: Porušitev in odstranitev prepusta iz betonskih cevi s premerom do 60 cm in odvozom ruševin | D93: m1 | E93: 12 | G93: =E93*F93 -> 0
...

Sheet P359-etapa 2
B2: Številka projekta: P-359/16
B3: Številka načrta: N-359/16-C
B6: CESTA NA DEPONIJO KOMUNALNIH ODPADKOV
B7: MALA MEŽAKLA (LC 152160) - 3. DEL
B8: Rekonstrukcija ceste od km 1+960 do km 3+640 v dolžini 1680m
B10: IZN
B15: T.3.2.2 PROJEKTANTSKI PREDRAČUN
C18: - 2. etapa (km 2+390 - km 2+820)
B33: KRANJ, NOVEMBER 2016
C40: REKAPITULACIJA
B42: 1.0 | C42: PREDDELA | G42: =G98 -> 0
B43: 2.0 | C43: ZEMELJSKA DELA IN TEMELJENJE | G43: =G160 -> 0
B44: 3.0 | C44: VOZIŠČNE KONSTRUKCIJE | G44: =G203 -> 0
B45: 4.0 | C45: ODVODNJAVANJE | G45: =G254 -> 0
B46: 5.0 | C46: GRADBENA IN OBRTNIŠKA DELA | G46: =G259 -> 0
B47: 6.0 | C47: PROMETNA OPREMA | G47: =G282 -> 0
B48: 7.0 | C48: TUJE STORITVE | G48: =G298 -> 0
C50: SKUPAJ | G50: =IF(SUM(G42:G48)=0,"",SUM(G42:G48)) | K50: =G50/E61/1000 -> #VALUE! | L50: EUR/m1
C51: + DDV 22% | G51: =G50*0.22 -> #VALUE! | K51: =G50/E187 -> #VALUE! | L51: EUR/m2 asfalta
C52: VSE SKUPAJ | G52: =G50+G51 -> #VALUE!
A55: Zap.št. | B55: Šifra | C55: Opis del | D55: Enota | E55: Količina | F55: Cena | G55: Vrednost
B57: 1. | C57: PREDDELA
B59: 1.1 | C59: Geodetska dela
A61: 1 | B61: 11 123 | C61: Obnova in zavarovanje zakoličbe osi trase ostale javne ceste v hribovitem terenu | D61: km | E61: 0.43 | G61: =E61*F61 -> 0
A63: 2 | B63: 11 223 | C63: Postavitev in zavarovanje prečnega profila ostale javne ceste v hribovitem terenu | D63: kos | E63: 43 | G63: =E63*F63 -> 0
B65: 1.2 | C65: Čiščenje terena | G65: =IF(ISBLANK(E65),"",IF(ISBLANK(F65),"",E65*F65))
B67: 1.2.1 | C67: Odstranitev grmovja, dreves, vej in panjev | G67: =IF(ISBLANK(E67),"",IF(ISBLANK(F67),"",E67*F67))
A69: 3 | B69: 12 111 | C69: Odstranitev grmovja na redko porasli površini (do 50 % pokritega tlorisa) - ročno (ocena) in z odvozom | D69: m2 | E69: 415 | G69: =E69*F69 -> 0
A71: 4 | B71: 12 131 | C71: Odstranitev grmovja in dreves z debli premera do 10 cm ter vej na redko porasli površini - ročno (ocena) in z odvozom | D71: m2 | E71: 332 | G71: =E71*F71 -> 0
A73: 5 | B73: 12 151 | C73: Posek in odstranitev drevesa z deblom premera 11 do 30 cm ter odstranitev vej (ocena) in z odvozom | D73: kos | E73: 42 | G73: =E73*F73 -> 0
A75: 6 | B75: 12 152 | C75: Posek in odstranitev drevesa z deblom premera 31 do 50 cm ter odstranitev vej (ocena) in z odvozom | D75: kos | E75: 42 | G75: =E75*F75 -> 0
A77: 7 | B77: 12 163 | C77: Odstranitev panja s premerom 11 do 30 cm z odvozom na deponijo po izbiri izvajalca | D77: kos | E77: 42 | G77: =E77*F77 -> 0
A79: 8 | B79: 12 166 | C79: Odstranitev panja s premerom 31 do 50 cm z odvozom na deponijo po izbiri izvajalca | D79: kos | E79: 42 | G79: =E79*F79 -> 0
B81: 1.2.2 | C81: Odstranitev prometne signalizacije in opreme | G81: =IF(ISBLANK(E81),"",IF(ISBLANK(F81),"",E81*F81))
A83: 9 | B83: 12 231 | C83: Demontaža jeklene varnostne ograje | D83: m1 | E83: 84 | G83: =E83*F83 -> 0
B85: 1.2.3 | C85: Porušitev in odstranitev voziščnih konstrukcij
A87: 10 | B87: - | C87: Odstranitev in odvoz kovinskih drežnikov | D87: m1 | E87: 49 | G87: =E87*F87 -> 0
A89: 11 | B89: - | C89: Odstranitev obstoječih betonskih kanalet | D89: m1 | E89: 36 | G89: =E89*F89 -> 0
B91: 1.3 | C91: Ostala preddela | G91: =IF(ISBLANK(E91),"",IF(ISBLANK(F91),"",E91*F91))
B93: 1.3.1 | C93: Omejitve prometa | G93: =IF(ISBLANK(E93),"",IF(ISBLANK(F93),"",E93*F93))
...

Sheet P359-etapa 3
B2: Številka projekta: P-359/16
B3: Številka načrta: N-359/16-C
B6: CESTA NA DEPONIJO KOMUNALNIH ODPADKOV
B7: MALA MEŽAKLA (LC 152160) - 3. DEL
B8: Rekonstrukcija ceste od km 1+960 do km 3+640 v dolžini 1680m
B10: IZN
B15: T.3.2.3 PROJEKTANTSKI PREDRAČUN
C18: - 3. etapa (km 2+820 - km 3+230)
B33: KRANJ, NOVEMBER 2016
C40: REKAPITULACIJA
B42: 1.0 | C42: PREDDELA | G42: =G96 -> 0
B43: 2.0 | C43: ZEMELJSKA DELA IN TEMELJENJE | G43: =G158 -> 0
B44: 3.0 | C44: VOZIŠČNE KONSTRUKCIJE | G44: =G195 -> 0
B45: 4.0 | C45: ODVODNJAVANJE | G45: =G240 -> 0
B46: 5.0 | C46: GRADBENA IN OBRTNIŠKA DELA | G46: =G245 -> 0
B47: 6.0 | C47: PROMETNA OPREMA | G47: =G268 -> 0
B48: 7.0 | C48: TUJE STORITVE | G48: =G284 -> 0
C50: SKUPAJ | G50: =IF(SUM(G42:G48)=0,"",SUM(G42:G48)) | K50: =G50/E61/1000 -> #VALUE! | L50: EUR/m1
C51: + DDV 22% | G51: =G50*0.22 -> #VALUE! | K51: =G50/E185 -> #VALUE! | L51: EUR/m2 asfalta
C52: VSE SKUPAJ | G52: =G50+G51 -> #VALUE!
A55: Zap.št. | B55: Šifra | C55: Opis del | D55: Enota | E55: Količina | F55: Cena | G55: Vrednost
B57: 1. | C57: PREDDELA
B59: 1.1 | C59: Geodetska dela
A61: 1 | B61: 11 123 | C61: Obnova in zavarovanje zakoličbe osi trase ostale javne ceste v hribovitem terenu | D61: km | E61: 0.41 | G61: =E61*F61 -> 0
A63: 2 | B63: 11 223 | C63: Postavitev in zavarovanje prečnega profila ostale javne ceste v hribovitem terenu | D63: kos | E63: 41 | G63: =E63*F63 -> 0
B65: 1.2 | C65: Čiščenje terena | G65: =IF(ISBLANK(E65),"",IF(ISBLANK(F65),"",E65*F65))
B67: 1.2.1 | C67: Odstranitev grmovja, dreves, vej in panjev | G67: =IF(ISBLANK(E67),"",IF(ISBLANK(F67),"",E67*F67))
A69: 3 | B69: 12 111 | C69: Odstranitev grmovja na redko porasli površini (do 50 % pokritega tlorisa) - ročno (ocena) in z odvozom | D69: m2 | E69: 140 | G69: =E69*F69 -> 0
A71: 4 | B71: 12 131 | C71: Odstranitev grmovja in dreves z debli premera do 10 cm ter vej na redko porasli površini - ročno (ocena) in z odvozom | D71: m2 | E71: 112 | G71: =E71*F71 -> 0
A73: 5 | B73: 12 151 | C73: Posek in odstranitev drevesa z deblom premera 11 do 30 cm ter odstranitev vej (ocena) in z odvozom | D73: kos | E73: 14 | G73: =E73*F73 -> 0
A75: 6 | B75: 12 152 | C75: Posek in odstranitev drevesa z deblom premera 31 do 50 cm ter odstranitev vej (ocena) in z odvozom | D75: kos | E75: 20 | G75: =E75*F75 -> 0
A77: 7 | B77: 12 163 | C77: Odstranitev panja s premerom 11 do 30 cm z odvozom na deponijo po izbiri izvajalca | D77: kos | E77: 14 | G77: =E77*F77 -> 0
A79: 8 | B79: 12 166 | C79: Odstranitev panja s premerom 31 do 50 cm z odvozom na deponijo po izbiri izvajalca | D79: kos | E79: 20 | G79: =E79*F79 -> 0
B81: 1.2.2 | C81: Odstranitev prometne signalizacije in opreme | G81: =IF(ISBLANK(E81),"",IF(ISBLANK(F81),"",E81*F81))
A83: 9 | B83: 12 231 | C83: Demontaža jeklene varnostne ograje | D83: m1 | E83: 84 | G83: =E83*F83 -> 0
B85: 1.2.4 | C85: Porušitev in odstranitev objektov | G85: =IF(ISBLANK(E85),"",IF(ISBLANK(F85),"",E85*F85))
A87: 10 | B87: - | C87: Odstranitev in odvoz kovinskih drežnikov | D87: m1 | E87: 32 | G87: =E87*F87 -> 0
B89: 1.3 | C89: Ostala preddela | G89: =IF(ISBLANK(E89),"",IF(ISBLANK(F89),"",E89*F89))
B91: 1.3.1 | C91: Omejitve prometa | G91: =IF(ISBLANK(E91),"",IF(ISBLANK(F91),"",E91*F91))
G92: =IF(ISBLANK(E92),"",IF(ISBLANK(F92),"",E92*F92))
...

Sheet P359-etapa 4
B2: Številka projekta: P-359/16
B3: Številka načrta: N-359/16-C
B6: CESTA NA DEPONIJO KOMUNALNIH ODPADKOV
B7: MALA MEŽAKLA (LC 152160) - 3. DEL
B8: Rekonstrukcija ceste od km 1+960 do km 3+640 v dolžini 1680m
B10: IZN
B15: T.3.2.4 PROJEKTANTSKI PREDRAČUN
C18: - 4. etapa (km 3+230 - km 3+640)
B33: KRANJ, NOVEMBER 2016
C40: REKAPITULACIJA
B42: 1.0 | C42: PREDDELA | G42: =G102 -> 0
B43: 2.0 | C43: ZEMELJSKA DELA IN TEMELJENJE | G43: =G163 -> 0
B44: 3.0 | C44: VOZIŠČNE KONSTRUKCIJE | G44: =G200 -> 0
B45: 4.0 | C45: ODVODNJAVANJE | G45: =G265 -> 0
B46: 5.0 | C46: GRADBENA IN OBRTNIŠKA DELA | G46: =G270 -> 0
B47: 6.0 | C47: PROMETNA OPREMA | G47: =G301 -> 0
B48: 7.0 | C48: TUJE STORITVE | G48: =G317 -> 0
C50: SKUPAJ | G50: =IF(SUM(G42:G48)=0,"",SUM(G42:G48)) | K50: =G50/E61/1000 -> #VALUE! | L50: EUR/m1
C51: + DDV 22% | G51: =G50*0.22 -> #VALUE! | K51: =G50/E190 -> #VALUE! | L51: EUR/m2 asfalta
C52: VSE SKUPAJ | G52: =G50+G51 -> #VALUE!
A55: Zap.št. | B55: Šifra | C55: Opis del | D55: Enota | E55: Količina | F55: Cena | G55: Vrednost
B57: 1. | C57: PREDDELA
B59: 1.1 | C59: Geodetska dela
A61: 1 | B61: 11 123 | C61: Obnova in zavarovanje zakoličbe osi trase ostale javne ceste v hribovitem terenu | D61: km | E61: 0.41 | G61: =E61*F61 -> 0
A63: 2 | B63: 11 223 | C63: Postavitev in zavarovanje prečnega profila ostale javne ceste v hribovitem terenu | D63: kos | E63: 41 | G63: =E63*F63 -> 0
B65: 1.2 | C65: Čiščenje terena | G65: =IF(ISBLANK(E65),"",IF(ISBLANK(F65),"",E65*F65))
B67: 1.2.1 | C67: Odstranitev grmovja, dreves, vej in panjev | G67: =IF(ISBLANK(E67),"",IF(ISBLANK(F67),"",E67*F67))
A69: 3 | B69: 12 111 | C69: Odstranitev grmovja na redko porasli površini (do 50 % pokritega tlorisa) - ročno (ocena) in z odvozom | D69: m2 | E69: 280 | G69: =E69*F69 -> 0
A71: 4 | B71: 12 131 | C71: Odstranitev grmovja in dreves z debli premera do 10 cm ter vej na redko porasli površini - ročno (ocena) in z odvozom | D71: m2 | E71: 224 | G71: =E71*F71 -> 0
A73: 5 | B73: 12 151 | C73: Posek in odstranitev drevesa z deblom premera 11 do 30 cm ter odstranitev vej (ocena) in z odvozom | D73: kos | E73: 40 | G73: =E73*F73 -> 0
A75: 6 | B75: 12 152 | C75: Posek in odstranitev drevesa z deblom premera 31 do 50 cm ter odstranitev vej (ocena) in z odvozom | D75: kos | E75: 40 | G75: =E75*F75 -> 0
A77: 7 | B77: 12 163 | C77: Odstranitev panja s premerom 11 do 30 cm z odvozom na deponijo po izbiri izvajalca | D77: kos | E77: 40 | G77: =E77*F77 -> 0
A79: 8 | B79: 12 166 | C79: Odstranitev panja s premerom 31 do 50 cm z odvozom na deponijo po izbiri izvajalca | D79: kos | E79: 40 | G79: =E79*F79 -> 0
B81: 1.2.2 | C81: Odstranitev prometne signalizacije in opreme | G81: =IF(ISBLANK(E81),"",IF(ISBLANK(F81),"",E81*F81))
A83: 9 | B83: 12 231 | C83: Demontaža jeklene varnostne ograje | D83: m1 | E83: 64 | G83: =E83*F83 -> 0
B85: 1.2.3 | C85: Porušitev in odstranitev voziščnih konstrukcij
A87: 10 | B87: 12 323 | C87: Porušitev in odstranitev asfaltne plasti v debelini 10 do 15 cm | D87: m2 | E87: 33 | G87: =E87*F87 -> 0
A89: 11 | B89: 12 383 | C89: Rezanje asfaltne plasti s talno diamantno žago, debele 10 do 15 cm | D89: m1 | E89: 5.6 | G89: =E89*F89 -> 0
B91: 1.2.4 | C91: Porušitev in odstranitev objektov | G91: =IF(ISBLANK(E91),"",IF(ISBLANK(F91),"",E91*F91))
A93: 12 | B93: - | C93: Odstranitev in odvoz kovinskih drežnikov | D93: m1 | E93: 36 | G93: =E93*F93 -> 0
...

Sheet P359-rakapitulacija
B2: Številka projekta: P-359/16
B3: Številka načrta: N-359/16-C
B6: CESTA NA DEPONIJO KOMUNALNIH ODPADKOV
B7: MALA MEŽAKLA (LC 152160) - 3. DEL
B8: Rekonstrukcija ceste od km 1+960 do km 3+640 v dolžini 1680m
B10: IZN
A15: T.3.2 PROJEKTANTSKI PREDRAČUN
B18: - skupna rekapitulacja
A33: KRANJ, NOVEMBER 2016
B40: REKAPITULACIJA
D42: 1. etapa | E42: 2. etapa | F42: 3. etapa | G42: 4. etapa | H42: skupaj
A43: 1.0 | B43: PREDDELA | D43: ='P359-etapa 1'!G42 -> 0 | E43: ='P359-etapa 2'!G42 -> 0 | F43: ='P359-etapa 3'!G42 -> 0 | G43: ='P359-etapa 4'!G42 -> 0 | H43: =SUM(D43:G43) -> 0
A44: 2.0 | B44: ZEMELJSKA DELA IN TEMELJENJE | D44: ='P359-etapa 1'!G43 -> 0 | E44: ='P359-etapa 2'!G43 -> 0 | F44: ='P359-etapa 3'!G43 -> 0 | G44: ='P359-etapa 4'!G43 -> 0 | H44: =SUM(D44:G44) -> 0
A45: 3.0 | B45: VOZIŠČNE KONSTRUKCIJE | D45: ='P359-etapa 1'!G44 -> 0 | E45: ='P359-etapa 2'!G44 -> 0 | F45: ='P359-etapa 3'!G44 -> 0 | G45: ='P359-etapa 4'!G44 -> 0 | H45: =SUM(D45:G45) -> 0
A46: 4.0 | B46: ODVODNJAVANJE | D46: ='P359-etapa 1'!G45 -> 0 | E46: ='P359-etapa 2'!G45 -> 0 | F46: ='P359-etapa 3'!G45 -> 0 | G46: ='P359-etapa 4'!G45 -> 0 | H46: =SUM(D46:G46) -> 0
A47: 5.0 | B47: GRADBENA IN OBRTNIŠKA DELA | D47: ='P359-etapa 1'!G46 -> 0 | E47: ='P359-etapa 2'!G46 -> 0 | F47: ='P359-etapa 3'!G46 -> 0 | G47: ='P359-etapa 4'!G46 -> 0 | H47: =SUM(D47:G47) -> 0
A48: 6.0 | B48: PROMETNA OPREMA | D48: ='P359-etapa 1'!G47 -> 0 | E48: ='P359-etapa 2'!G47 -> 0 | F48: ='P359-etapa 3'!G47 -> 0 | G48: ='P359-etapa 4'!G47 -> 0 | H48: =SUM(D48:G48) -> 0
A49: 7.0 | B49: TUJE STORITVE | D49: ='P359-etapa 1'!G48 -> 0 | E49: ='P359-etapa 2'!G48 -> 0 | F49: ='P359-etapa 3'!G48 -> 0 | G49: ='P359-etapa 4'!G48 -> 0 | H49: =SUM(D49:G49) -> 0
B51: SKUPAJ | D51: =IF(SUM(D43:D49)=0,"",SUM(D43:D49)) | E51: =IF(SUM(E43:E49)=0,"",SUM(E43:E49)) | F51: =IF(SUM(F43:F49)=0,"",SUM(F43:F49)) | G51: =IF(SUM(G43:G49)=0,"",SUM(G43:G49)) | H51: =IF(SUM(H43:H49)=0,"",SUM(H43:H49))
B52: DDV 22% | D52: =D51*0.22 -> #VALUE! | E52: =E51*0.22 -> #VALUE! | F52: =F51*0.22 -> #VALUE! | G52: =G51*0.22 -> #VALUE! | H52: =H51*0.22 -> #VALUE!
B53: VSE SKUPAJ | D53: =D52+D51 -> #VALUE! | E53: =E52+E51 -> #VALUE! | F53: =F52+F51 -> #VALUE! | G53: =G52+G51 -> #VALUE! | H53: =H52+H51 -> #VALUE!
