Workbook

Sheet Rekapitulacija
B3: Investitor:
B4: OBČINA JESENICE
B5: CESTA ŽELEZARJEV 6
B6: 4270 JESENICE
B9: REKAPITULACIJA | C9: PONUDBENA CENA
A10: I. | B10: PREDDELA IN ZAKLJUČNA DELA | C10: ='Popis del'!F11 -> 0
A11: II. | B11: RUŠITVENA DELA | C11: ='Popis del'!F21 -> 0
A12: III. | B12: ZEMELJSKA DELA | C12: ='Popis del'!F32 -> 0
A13: IV. | B13: VOZIŠČNE KONSTRUKCIJE | C13: ='Popis del'!F39 -> 0
A14: V. | B14: ODVODNJAVANJE | C14: ='Popis del'!F46 -> 0
A15: VI. | B15: BETONSKA IN ARM. - BETONSKA DELA | C15: ='Popis del'!F54 -> 0
A16: VII. | B16: TESARSKA DELA | C16: ='Popis del'!F62 -> 0
A17: VIII. | B17: ZIDARSKA DELA | C17: ='Popis del'!F70 -> 0
B18: NEPREDVIDENA DELA 5% | C18: =SUM(C10:C17)*0.05 -> 0
A19: IX. | B19: KLJUČAVNIČARSKA DELA | C19: =jeklo!F20 -> 0
A20: X. | B20: KROVSKO KLEPARSKA DELA | C20: =jeklo!F35 -> 0
B22: SKUPAJ BREZ DDV | C22: =SUM(C10:C20) -> 0
B23: DDV 22% | C23: =C22*0.22 -> 0
B24: CENA Z DDV | C24: =C22+C23 -> 0

Sheet Popis del
B2: Opis del | C2: Enota | D2: Količina | E2: Cena/enoto (v €) | F2: Vrednost (v €)
A3: I. | B3: PREDDELA IN ZAKLJUČNA DELA
A4: 1 | B4: Zakoličba nadstrešnice in zavarovanje | C4: kpl | D4: 1 | F4: =D4*E4 -> 0
A5: =A4+1 -> 2 | B5: Postavitev prečnih profilov in zavarovanje | C5: kos | D5: 6 | F5: =D5*E5 -> 0
A6: =A5+1 -> 3 | B6: Zakoličba obstoječih komunalnih naprav ( kanlizacije, vodovod, elektro kabli, TK kabli, plin) | C6: kpl | D6: 1 | F6: =D6*E6 -> 0
A7: =A6+1 -> 4 | B7: Priprava gradbišča, vključno z ograditvijo, namestitvijo gradbiščne table, postavitvijo vseh potrebnih elementov gradbišča, kot so zabojniki, sanitarne enote itd. | C7: kpl | D7: 1 | F7: =D7*E7 -> 0
A8: =A7+1 -> 5 | B8: Končno čiščenje gradbišča z odstranitvijo vseh elementov gradbišča | C8: kpl | D8: 1 | F8: =D8*E8 -> 0
A9: 6 | B9: Izdelava geodetskega načrta končnega stanja | C9: kpl | D9: 1 | F9: =D9*E9 -> 0
A10: 7 | B10: Izdelava PID dokumentacije v celoti - vključno z načrtom jekene konstrukcije | C10: kpl | D10: 1 | F10: =D10*E10 -> 0
B11: =B3 -> PREDDELA IN ZAKLJUČNA DELA | F11: =SUM(F4:F10) -> 0
A13: II. | B13: RUŠITVENA DELA
A14: 1 | B14: Zarezovanje asfalta debeline cca 10 do 15 cm | C14: m1 | D14: 122 | F14: =D14*E14 -> 0
A15: =A14+1 -> 2 | B15: Rušenje obstoječih asfaltov na mestih temeljev, debeline do 15 cm vključno z nakladanjem in odvozom ruševin na gradbeno deponijo po izbiri izvajalca, vključno s stroški deponiranja ali obdelave | C15: m2 | D15: 318 | F15: =D15*E15 -> 0
A16: =A15+1 -> 3 | B16: Odstranitev obstoječega jaška z LTŽ rešetko | C16: kos | D16: 1 | F16: =D16*E16 -> 0
A17: =A16+1 -> 4 | B17: Odstranitev obstoječe žičnate ograje, vključno z odstranitvijo stebrov ograje in odvozom na stalno deponijo s plačilom deponije. V ceno vključiti predelavo ograje na delih, kjer se nadstrešnica zaključi in ograja ostane. | C17: m1 | D17: 34 | F17: =D17*E17 -> 0
A18: =A17+1 -> 5 | B18: Zarezovanje in rezanje betonskih sten do debeline 30cm | C18: m1 | D18: =12*2 -> 24 | F18: =D18*E18 -> 0
A19: =A18+1 -> 6 | B19: Rezanje betonskh temeljev debeline 40 do 60cm | C19: m1 | D19: =12*1.2 -> 14.4 | F19: =D19*E19 -> 0
A20: =A19+1 -> 7 | B20: Strojno rušenje obstoječih AB zidov in temeljev, ki jih je potrebno odstraniti zaradi izvedbe novih temeljev, vključno z odvozom na stalno deponijo in plačilom deponije - v sklopu rušenja se odstrani tudi dele betonske kinete za zidom | C20: m3 | D20: =1*3.2*6 -> 19.2 | F20: =D20*E20 -> 0
B21: =B13 -> RUŠITVENA DELA | F21: =SUM(F14:F20) -> 0
A23: III. | B23: ZEMELJSKA DELA
A24: 1 | B24: Odriv rodovitne zemljine debeline 15 do 20 cm za opornim zidom na parcelo investitorja, kjer se skladišči za ureditev okolice po zaključku del | C24: m2 | D24: 70 | F24: =D24*E24 -> 0
A25: =A24+1 -> 2 | B25: Izkop v zemljini lll. Ktg v z odlaganjem materiala ob izkopu | C25: m3 | D25: =6*6.2+0.9*26+5.01*4.3*5 -> 168.315 | F25: =D25*E25 -> 0
A26: =A25+1 -> 3 | B26: Ročni izkop z odmetom ob izkopu okrog odrezanih temeljev, instalacij in ostalih vodov, kjer ni možnosti strojnega izkopa | C26: m3 | D26: 3 | F26: =D26*E26 -> 0
A27: =A26+1 -> 4 | B27: Izdelava nosilnega tampona (zmrzlinsko odporen material) za temelje nadstrešnice, debeline 30cm - Skupaj s potrebnimi meritvami zgoščenosti in zbitosti po navodilih geomehanika. Na vrhu tampona potrebno doseči Ev2 80 MN/m2, razmerje Ev2/Ev1 pa mora biti manjše od 2,50. | C27: m3 | D27: =3.2*3.2*0.3*10 -> 30.72 | F27: =D27*E27 -> 0
A28: =A27+1 -> 5 | B28: Finalna izravnava planuma tampona z drobnozrnatim peskom 0 - 4 mm v sloju debeline min. 2 - 5 cm | C28: m2 | D28: =3.2*3.2*10 -> 102.4 | F28: =D28*E28 -> 0
A29: =A28+1 -> 6 | B29: Zasipanje izvedenih temeljev z izkopanim materialom s sprotnim utrjevanjem v plasteh po 30 cm do predpisane zbitosti | C29: m3 | D29: =((0.56+0.65)*3.2*5)+(0.67*2*3.2*5)+52 -> 92.8 | F29: =D29*E29 -> 0
A30: =A29+1 -> 7 | B30: Nakladanje in odvoz odvečnega materiala s kamioni na stalno deponijo v razdalji do 5.0 km vključno s plačilom deponije - v izračunu količine je upoštevan faktor razrahljanosti | C30: m3 | D30: =((D25+D26)-(D27+D49+D50))*1.2 -> 111.792 | F30: =D30*E30 -> 0
A31: =A30+1 -> 8 | B31: Planiranje in humusiranje zelenih površin v debelini 20 cm, ter posejanjem travnega semena (s humusom, ki je bil odstranjen pred začetkom gradnje in deponiran na gradbišču) | C31: m2 | D31: =D24 -> 70 | F31: =D31*E31 -> 0
B32: =B23 -> ZEMELJSKA DELA | F32: =SUM(F24:F31) -> 0
A34: IV. | B34: VOZIŠČNE KONSTRUKCIJE
A35: 1 | B35: Nabava in vgraditev tampona iz tamponskega drobljenca 0/32 mm 10 cm pod asfaltnim voziščem v debelini 50cm, utrjevanje v plasteh po 30 cm. Planiranje in komprimiranje planuma zg. ustroja s točnostjo + 1 cm. Me >120 Mpa - Skupaj s potrebnimi meritvami zgoščenosti in zbitosti po navodilih geomehanika. | C35: m3 | D35: =D15*0.1 -> 31.8 | F35: =D35*E35 -> 0
B36: Pobrizg gramoznega planuma oz.obst.asfalta, z bitumnom za asfaltni sloj, zaradi boljše sprijemnosti. | C36: m2 | D36: =D15 -> 318 | F36: =D36*E36 -> 0
A37: =A35+1 -> 2 | B37: Izdelava obrabne in zaporne plasti bitumenskega betona BB 8 s iz zmesi zrn peska iz silikatnih kamnin in cestogradbenega bitumna v debelini 40 mm, AC 8 surf B 70/100 A3. | C37: m2 | D37: =D15 -> 318 | F37: =D37*E37 -> 0
A38: =A37+1 -> 3 | B38: Izdelava zgornje nosilne plasti bituminiziranega drobljenca zrnavosti 0/22 mm v debelini 7 cm AC 22 base B 70/100 A3. | C38: m2 | D38: =D15 -> 318 | F38: =D38*E38 -> 0
B39: =B34 -> VOZIŠČNE KONSTRUKCIJE | F39: =SUM(F35:F38) -> 0
A41: V. | B41: ODVODNJAVANJE
A42: 1 | B42: Dobava in polaganje SN8 cevi iz umetnih mas DN 160 na peščeno podlago po detajlu in zasipanje po detajlu ( pesek 30 cm nad temenom po preiskusu vodotesnosti) za povezavo na obstoječo meteorno kanalizacijo (ocena) - vključno s spajanjem, čiščenjem vsemi pomožnimi materiali (kolena, spojke, reducirke,...) | C42: m1 | D42: 10 | F42: =D42*E42 -> 0
A43: =A42+1 -> 2 | B43: Kompletna dobava in vgradnja betonskih tipskih linijskih kanalet ojačanih s steklenimi vlakni, atestiranih za težki promet, z vgrajenim nagibom dna, vključno z rešetko nosilnosti E600, vključno z zaključnim peskolovom in priklopom na obstoječo meteorno kanalizacijo | C43: m1 | D43: 33 | F43: =D43*E43 -> 0
A44: =A43+1 -> 3 | B44: Kompletna izdelava peskolovov premera 60 cm iz umetnih mas, globina s peskolovom je 1,3 m, vključno z zaključno LTŽ rešetko ter povezavo na obstoječi meteorni kanal | C44: kos | D44: 2 | F44: =D44*E44 -> 0
A45: =A44+1 -> 4 | B45: Kompletna izdelava globoke betonske mulde (s tipskimi betonskimi elementi, polovična betonska cev fi 50 cm in obbetonirano) za opornim zidom, v katero se vodi meteorna voda s streh, vključno s povezavo na obstoječo meteorno kanalizacijo - kot pri sosednji nadstrešnici | C45: m1 | D45: 18 | F45: =D45*E45 -> 0
B46: =B41 -> ODVODNJAVANJE | F46: =SUM(F42:F45) -> 0
A48: VI. | B48: BETONSKA IN ARM. - BETONSKA DELA | F48: =IF(ISBLANK($D48),"",IF(ISBLANK(#REF!),"",$D48*#REF!))
A49: 1 | B49: Betoniranje podložnega betona točkovnih temeljev deb. 10 cm, C 8/10, beton zemeljsko vlažen iz prane frakcije 0-16 mm | C49: m3 | D49: =2.6*2.4*0.1*5+2.4*2.4*0.1*5 -> 6 | F49: =D49*E49 -> 0
A50: =A49+1 -> 2 | B50: Betoniranje armiranobetonskih točkovnih temeljev in povezovalnih gred, preseka nad 0,30 m3/m1, C 25/30 XC2, črpni beton iz prane frakcije 0-32 mm. Obračun po m3. | C50: m3 | D50: =2*2*0.8*10+0.7*0.7*0.3*5+0.5*0.5*(11.2+6+5.8+5.8+6) -> 41.435 | F50: =D50*E50 -> 0
A51: =A50+1 -> 3 | B51: Betoniranje opornih zidov na mestu odrezanih delov, C 30/37 XC4, XD3, XF2 - samo stene debeline 25cm, sidrane v obstoječi AB zid levo in desno, vidni betoni, na stikih vgraditi kotne letvice | C51: m3 | D51: =3.2*2*0.25*5 -> 8 | F51: =D51*E51 -> 0
A52: =A51+1 -> 4 | B52: Dobava, rezanje, krivljenje in krojenje ter polaganje srednje komplicirane armature. Količina ocenjena | C52: kg | D52: =90*(D50+D51) -> 4449.15 | F52: =D52*E52 -> 0
A53: 5 | B53: Dobava in polaganje železnega pocinkanega valjanca 25 x 4 mm v zemljo ali temelje vključno s spojkami in za pritrditev na jekleno konstrukcijo | C53: m1 | D53: 115 | F53: =D53*E53 -> 0
B54: =B48 -> BETONSKA IN ARM. - BETONSKA DELA | F54: =SUM(F49:F53) -> 0
F55: =IF(ISBLANK($D55),"",IF(ISBLANK(#REF!),"",$D55*#REF!))
A56: VII. | B56: TESARSKA DELA | F56: =IF(ISBLANK($D56),"",IF(ISBLANK(#REF!),"",$D56*#REF!))
A57: 1 | B57: Enostranski opaž točkovnih temeljev, z vso porabo lesa, s prenosom materiala do mesta vgraditve, razopaženjem, čiščenjem, z vsemi pomožnimi deli in prenosi. Obračun po m2 | C57: m2 | D57: =4*2.2*10*0.8 -> 70.4 | F57: =D57*E57 -> 0
A58: =A57+1 -> 2 | B58: Dvostranski opaž povezovalnih gred višine 0,5 m - upoštevana površina z obeh strani grede | C58: m2 | D58: =(11.2+6+5.8+5.8+6)*2 -> 69.6 | F58: =D58*E58 -> 0
A59: =A58+1 -> 3 | B59: Dvostranski opaž opornih zidov, višine do 2m, vgrajeni trikotni letvi levo in desno na stiku z obstoječim zidom | C59: m2 | D59: =3.2*2*2*5 -> 64 | F59: =D59*E59 -> 0
A60: =A59+1 -> 4 | B60: Slepi opaž v primeru opaženja na težko dostopnih mestih, okrog instalacij itd, vključno z dobavo in vgradnjo | C60: m2 | D60: 10 | F60: =D60*E60 -> 0
B61: Lahki premični odri za vsa gradbeno-obrtniška dela in inštalacijska dela zajeti v cenah posameznih postavk in se jih posebej ne obračuna. | F61: =IF(ISBLANK($D61),"",IF(ISBLANK(#REF!),"",$D61*#REF!))
B62: =B56 -> TESARSKA DELA | F62: =SUM(F57:F61) -> 0
F63: =IF(ISBLANK($D63),"",IF(ISBLANK(#REF!),"",$D63*#REF!))
A64: VIII. | B64: ZIDARSKA DELA | F64: =IF(ISBLANK($D64),"",IF(ISBLANK(#REF!),"",$D64*#REF!))
A65: 1 | B65: Vgradnja sidrnih plošč jeklene nosilne konstrukcije z nameščanjem vijakov (več vijakov na eno podporo), nameščanje s šablono z geodetsko natančnostjo in zavarovanje proti premiku. Vgradnja pri betoniranju dim 500 x 650 x 15 mm | C65: kom | D65: 10 | F65: =D65*E65 -> 0
A66: =A65+1 -> 2 | B66: Kitanje dilatacij v obstoječem zidu s trajnoelastičnim kitom vkljuno s pripravo podlage, zaščito in čiščenjem | C66: m | D66: =2*2*12 -> 48 | F66: =D66*E66 -> 0
A67: =A66+1 -> 3 | B67: Vrtanje za sidra fi 16 v obstoječi AB zid - 2 sidra/razmaku 20 cm, sidranje v steno obstoječega zidu, vkljuno z vgradnjo sider z lepljenjem s sika anchorfix ali podobnim | C67: kos | D67: =20*2*12 -> 480 | F67: =D67*E67 -> 0
A68: =A67+1 -> 4 | B68: Podlivanje stebrov nadstrešnice s sika grout ali podobnim | C68: m3 | D68: =0.5*0.5*0.05*10 -> 0.125 | F68: =D68*E68 -> 0
A69: =A68+1 -> 5 | B69: Dobava in vgradnja XPS kot opaž in dilatacija nad obstoječim meteornim kanalom | C69: m2 | D69: 6 | F69: =D69*E69 -> 0
B70: =B64 -> ZIDARSKA DELA | F70: =SUM(F65:F69) -> 0

Sheet jeklo
A1: IX. | B1: KLJUČAVNIČARSKA DELA | F1: =IF(ISBLANK($D1),"",IF(ISBLANK(#REF!),"",$D1*#REF!))
B2: JEKLENE KONSTRUKCIJE | F2: =IF(ISBLANK($D2),"",IF(ISBLANK(#REF!),"",$D2*#REF!))
B3: Opombe : | F3: =IF(ISBLANK($D3),"",IF(ISBLANK(#REF!),"",$D3*#REF!))
A4: a. | B4: Vsa jeklena konstrukcija je zaščitena proti koroziji na sledeč način : | F4: =IF(ISBLANK($D4),"",IF(ISBLANK(#REF!),"",$D4*#REF!))
B5: * čiščenje vseh površin pred montažo s peskanjem in odpraševanjem | F5: =IF(ISBLANK($D5),"",IF(ISBLANK(#REF!),"",$D5*#REF!))
B6: * antikorozijska zaščita s temeljno barvo v sloju min. 30 mikronov | F6: =IF(ISBLANK($D6),"",IF(ISBLANK(#REF!),"",$D6*#REF!))
B7: * popravilo poškodovane temeljne barve po montaži na objektu in izdelava finalne površinske obdelave s pleskanjem z ustrezno barvo v RAL obstoječih nadstrešnic - RAL 1014 (krem) | F7: =IF(ISBLANK($D7),"",IF(ISBLANK(#REF!),"",$D7*#REF!))
A8: b. | B8: Izvajalec mora v ceni upoštevati izdelavo delavniških risb, ki jih mora pred izvajanjem na objektu dati v pregled in podpis projektantu. Izdelki, katerih merska enota je kg, se obračujajo po dejansko vgrajeni teži. Za nosilne kovinske konstrukcije je potrebno pridobiti atest za montirano konstrukcijo! Vse nosilne elemente je dimenzionirati z analizo konstrukcij. | F8: =IF(ISBLANK($D8),"",IF(ISBLANK(#REF!),"",$D8*#REF!))
A9: c. | B9: Na jeklenih konstrukcijah, ki ostanejo v vgrajenem stanju vidne, je potrebno vse zvare gladko in ravno obrusiti, pred finalno površinsko obdelavo. | F9: =IF(ISBLANK($D9),"",IF(ISBLANK(#REF!),"",$D9*#REF!))
B10: Pregled lokacije in možnosti ter določitev mehanizacije za vertikalne in horizontalne transporte na objektu. Sodelovanje z glavnim izvajalcem ali koordinatorjem GOI del. Kontrolo načrtov in izmer na mestu samem | F10: =IF(ISBLANK($D10),"",IF(ISBLANK(#REF!),"",$D10*#REF!))
B11: Omejene prostorske možnosti za deponiranje in dodelavo na območju gradbišča. Praviloma naj bi transport konstrukcij na objekt potekal brez vmesnega pretovarjanja. | F11: =IF(ISBLANK($D11),"",IF(ISBLANK(#REF!),"",$D11*#REF!))
B12: Vse potrebne ukrepe za varstvo pri delu in varstvo napram tretjim osebam. Izvajalec mora imeti svojo dejavnost, delo, materiale odgovornost napram tretjim osebam in ostalo potrebno , zavarovano pri zavarovalnici | F12: =IF(ISBLANK($D12),"",IF(ISBLANK(#REF!),"",$D12*#REF!))
B13: V ceni je potrebno zajeti: | F13: =IF(ISBLANK($D13),"",IF(ISBLANK(#REF!),"",$D13*#REF!))
B14: Izdelava kovinske konstrukcije in osnovna kontrolna tovarniška montaža. Izdelava oziroma nabava vseh spojnih sredstev in drobnega spojnega materiala(elektrode, vijaki, plošče, distančniki, začasne podpore in drugo). | F14: =IF(ISBLANK($D14),"",IF(ISBLANK(#REF!),"",$D14*#REF!))
B15: Dvakratno osnovno antikorozijsko zaščito v dveh barvnih tonih nanešeno na očiščene- peskane profile in pločevine. Prvi sloj zaščite se izvede v tovarni- delavnici. Drugi sloj se naneše po končani montaži in popravilu prvega sloja. | F15: =IF(ISBLANK($D15),"",IF(ISBLANK(#REF!),"",$D15*#REF!))
B16: Za antikorozijsko zaščito je potrebno uporabiti barvo, ki omogoča nanašanje eno ali dvo komponentnih finalnih epoksidnih, poliuretanskih ali drugačnih premazov, ki jih predpiše proizvajalec in dobi odobritev od pooblaščene institucije za pregled kovinskih konstrukcij. Osnovni premaz mora omogočiti tudi nanašanje protipožarnih barv. Debelina premaza po navodilu proizvajalca. Upoštevati je potrebno bližino morja. | F16: =IF(ISBLANK($D16),"",IF(ISBLANK(#REF!),"",$D16*#REF!))
B17: Za cinkane konstrukcije in izdelke velja vse enako razen nanašanja antikorozijskih premazov in finalnega opleska. Predvideti je potrebno nanašanje proti požarnih opleskov, če je tako določeno v projektu. | F17: =IF(ISBLANK($D17),"",IF(ISBLANK(#REF!),"",$D17*#REF!))
A18: 1 | B18: Izdelava in montaža jeklene konstrukcije z enim temeljnim opleskom. Delavniške načrte si mora izvajalec izdelati sam. Vse delovne odre in eventuelne lovilne odre postavi izvajalec montažerskih del in jih mora vračunati v enotne cene. Količina ocenjena! | C18: kg | D18: 25913 | F18: =D18*E18 -> 0
A19: 2 | B19: Izdelava in dobava sider za nadstrešnico IV., izdelanih iz pločevine 15mm, kotnika HOP 100x100x8mm, železo ČO 563, fi 25mm in fi 20mm. | C19: kg | D19: 648 | F19: =D19*E19 -> 0
B20: =B1 -> KLJUČAVNIČARSKA DELA | F20: =SUM(F18:F19) -> 0
F21: =IF(ISBLANK($D21),"",IF(ISBLANK(#REF!),"",$D21*#REF!))
A22: X. | B22: KROVSKO - KLEPARSKA DELA | F22: =IF(ISBLANK($D22),"",IF(ISBLANK(#REF!),"",$D22*#REF!))
B23: OPOMBA : za vsa kleparska dela je v ceni zajeta izdelava in montaža izdelkov z dobavo vsega materiala, izdelavo izmer, preddeli pomožnimi deli in transporti. Izvedba detajlov obrob po projektu, oz. po tipskih rešitvah proizvajalca kritine; razrez pločevine za obrobe prilagoditi osnovni širini plošč. | F23: =IF(ISBLANK($D23),"",IF(ISBLANK(#REF!),"",$D23*#REF!))
A24: 1 | B24: Dobava in polaganje kritine iz trapezne jeklene pločevine npr. TRIMO Trebnje, vključno z ustreznimi zaključnimi profili na kapu in slemenu. Obstoječe nadstrešnice plošče Trimoval TP835 | C24: m2 | D24: 590 | F24: =D24*E24 -> 0
A25: =A24+1 -> 2 | B25: Izdelava in montaža fasadne pločevinaste zapore iz trapezne jeklene, kompletno z pritrdilnim materialom (nadstrešnica 3) | C25: m2 | D25: 295 | F25: =D25*E25 -> 0
A26: =A25+1 -> 3 | B26: Žlebovi r.š.33 cm iz ploč.deb.0,6 mm, polkrožne oblike v barvi fasadne pločevine, skupno s kljukami in ostalim pritrdilnim in tesnilnim materialom. Kljuke so iz pocinkanega valjanca ali drugega jeklenega profila, ki je antikorozijsko zaščiten in finalno obdelan. Dobava materiala, prenosi in druga pomožna dela. | C26: m1 | D26: 33 | F26: =D26*E26 -> 0
A27: =A26+1 -> 4 | B27: Odtočne cevi r.š.40 cm iz ploč. deb. 0,6 mm, krožne oblike v barvi fasadne pločevine, skupaj z objemkami za pritrjevanje, kompletno z vsemi potrebnimi fazonskimi kosi. Dobava materiala, prenosi in druga pomožna dela. | C27: m1 | D27: 24 | F27: =D27*E27 -> 0
A28: =A27+1 -> 5 | B28: Dobava in montaža žlebnih kotličkov za vertikalno odtočno cev. Obračun po kom. | C28: kom | D28: 3 | F28: =D28*E28 -> 0
A29: =A28+1 -> 6 | B29: Priključek strešne odtočne cevi fi 15 cm na LTŽ cev | C29: kom | D29: 3 | F29: =D29*E29 -> 0
A30: =A29+1 -> 7 | B30: LTŽ cevi fi 15 cm, dolžine 2,0 m, dobava in pritrditev na jeklene stebre, s kljukami in tesnenje stikov. Cena vsebuje tudi vse potrebne fazonske kose in druga pritrdilna in tesnilna sredstva. | C30: kom | D30: 0 | F30: =D30*E30 -> 0
A31: =A30+1 -> 8 | B31: Razna manjša krovska dela, dela v režiji in ostala nepredvidena dela. Ocenjeno : obračun po dejanskih porabah ur in materiala. | F31: =D31*E31 -> 0
A32: =A31+1 -> 9 | B32: a) KV delavec | C32: ur | D32: 10 | F32: =D32*E32 -> 0
A33: =A32+1 -> 10 | B33: b) PK ur | C33: ur | D33: 10 | F33: =D33*E33 -> 0
A34: =A33+1 -> 11 | B34: Dobava in montaža raznih zaključkov, obrob in kap, izdelanih po detajlu izvajalca ali projektanta. Količina ocenjena. | C34: m2 | D34: 60.6 | F34: =D34*E34 -> 0
B35: =B22 -> KROVSKO - KLEPARSKA DELA | F35: =SUM(F24:F34) -> 0
