Workbook
Name Excel_BuiltIn_Print_Area: 'P298-3.etapa'!$A$1:$G$287
Name Excel_BuiltIn_Print_Area: 'P298-rekapitulacija'!$A$1:$D$28
Name Excel_BuiltIn_Print_Titles: 'P298-3.etapa'!$39:$40
Name Excel_BuiltIn_Print_Titles: 'P298-rekapitulacija'!#REF!

Sheet P298-3.etapa
B2: Številka projekta: P-298/14
B3: Številka načrta: N-298/14-C
B6: CESTA NA KOMUNALNO DEPONIJO MALA MEŽAKLA (LC 152160)
B7: Rekonstrukcija ceste od km 1+230 do km 1+930 v dolžini 700m
B10: PZI
B15: T.3.2.3 PROJEKTANTSKI PREDRAČUN
C18: - 3. etapa (km 1+545 - km 1+930)
C26: REKAPITULACIJA
B28: 1.0 | C28: PREDDELA | G28: =G93
B29: 2.0 | C29: ZEMELJSKA DELA IN TEMELJENJE | G29: =G156
B30: 3.0 | C30: VOZIŠČNE KONSTRUKCIJE | G30: =G193
B31: 4.0 | C31: ODVODNJAVANJE | G31: =G230
B32: 5.0 | C32: GRADBENA IN OBRTNIŠKA DELA | G32: =G236 -> 0
B33: 6.0 | C33: PROMETNA OPREMA | G33: =G273
B34: 7.0 | C34: TUJE STORITVE | G34: =G287 -> #VALUE!
C36: VSE SKUPAJ | G36: =IF(SUM(G28:G34)=0,"",SUM(G28:G34)) -> #VALUE!
A39: Zap.št. | B39: Šifra | C39: Opis del | D39: Enota | E39: Količina | F39: Cena | G39: Vrednost
B41: 1. | C41: PREDDELA
B43: 1.1 | C43: Geodetska dela
A45: 1 | B45: 11 122 | C45: Obnova in zavarovanje zakoličbe osi trase ostale javne ceste v gričevnatem terenu | D45: km | E45: 0.385 | G45: =IF(ISBLANK(E45),"",IF(ISBLANK(F45),"",E45*F45))
A47: 2 | B47: 11 222 | C47: Postavitev in zavarovanje prečnega profila ostale javne ceste v gričevnatem terenu | D47: kos | E47: 40 | G47: =IF(ISBLANK(E47),"",IF(ISBLANK(F47),"",E47*F47))
B49: 1.2 | C49: Čiščenje terena | G49: =IF(ISBLANK(E49),"",IF(ISBLANK(F49),"",E49*F49))
B51: 1.2.1 | C51: Odstranitev grmovja, dreves, vej in panjev | G51: =IF(ISBLANK(E51),"",IF(ISBLANK(F51),"",E51*F51))
C52: Opomba : v cenah/enoto zajeti vsi stroški odstranitve
C53: Opomba : pred posekom dreves obvezna odmera gozdarja
C54: Opomba : posekana drevesa so v lasti lastnikov zemljišč
A55: 3 | B55: 12 111 | C55: Odstranitev grmovja na redko porasli površini (do 50 % pokritega tlorisa) - ročno (ocena) | D55: m2 | E55: 40 | G55: =IF(ISBLANK(E55),"",IF(ISBLANK(F55),"",E55*F55))
A57: 4 | B57: 12 131 | C57: Odstranitev grmovja in dreves z debli premera do 10 cm ter vej na redko porasli površini - ročno (ocena) | D57: m2 | E57: 50 | G57: =IF(ISBLANK(E57),"",IF(ISBLANK(F57),"",E57*F57))
A59: 5 | B59: 12 151 | C59: Posek in odstranitev drevesa z deblom premera 11 do 30 cm ter odstranitev vej (ocena) | D59: kos | E59: 15 | G59: =IF(ISBLANK(E59),"",IF(ISBLANK(F59),"",E59*F59))
A61: 6 | B61: 12 152 | C61: Posek in odstranitev drevesa z deblom premera 31 do 50 cm ter odstranitev vej (ocena) | D61: kos | E61: 5 | G61: =IF(ISBLANK(E61),"",IF(ISBLANK(F61),"",E61*F61))
A63: 7 | B63: 12 163 | C63: Odstranitev panja s premerom 11 do 30 cm z odvozom na deponijo po izbiri izvajalca s stroški deponiranja | D63: kos | E63: 15 | G63: =IF(ISBLANK(E63),"",IF(ISBLANK(F63),"",E63*F63))
A65: 8 | B65: 12 165 | C65: Odstranitev panja s premerom 31 do 50 cm z odvozom na deponijo po izbiri izvajalca s stroški deponiranja | D65: kos | E65: 5 | G65: =IF(ISBLANK(E65),"",IF(ISBLANK(F65),"",E65*F65))
B67: 1.2.2 | C67: Odstranitev prometne signalizacije in opreme | G67: =IF(ISBLANK(E67),"",IF(ISBLANK(F67),"",E67*F67))
A69: 9 | B69: 12 211 | C69: Demontaža prometnega znaka na enem podstavku | D69: kos | E69: 0 | G69: =IF(ISBLANK(E69),"",IF(ISBLANK(F69),"",E69*F69))
A71: 10 | B71: 12 212 | C71: Demontaža prometnega znaka na dveh podstavkih | D71: kos | E71: 0 | G71: =IF(ISBLANK(E71),"",IF(ISBLANK(F71),"",E71*F71))
C72: Opomba : v cenah/enoto zajeta pazljiva odstranitev varnostne ograje, ograja ostane v lasti naročnika
A73: 11 | B73: 12 231 | C73: Demontaža jeklene varnostne ograje | D73: m1 | E73: 111 | G73: =IF(ISBLANK(E73),"",IF(ISBLANK(F73),"",E73*F73))
B75: 1.2.3 | C75: Porušitev in odstranitev voziščnih konstrukcij | G75: =IF(ISBLANK(E75),"",IF(ISBLANK(F75),"",E75*F75))
A77: 12 | B77: 12 322 | C77: Porušitev in odstranitev asfaltne plasti v debelini 6 do 10 cm | D77: m2 | E77: 14 | G77: =IF(ISBLANK(E77),"",IF(ISBLANK(F77),"",E77*F77))
A79: 13 | B79: 12 331 | C79: Porušitev in odstranitev cementnobetonske krovne plasti v debelini do 15 cm (betonirane mulde) | D79: m3 | E79: 0 | G79: =IF(ISBLANK(E79),"",IF(ISBLANK(F79),"",E79*F79))
A81: 14 | B81: 12 382 | C81: Rezanje asfaltne plasti s talno diamantno žago, debele 6 do 10 cm | D81: m1 | E81: 5 | G81: =IF(ISBLANK(E81),"",IF(ISBLANK(F81),"",E81*F81))
B83: 1.2.4 | C83: Porušitev in odstranitev objektov | G83: =IF(ISBLANK(E83),"",IF(ISBLANK(F83),"",E83*F83))
A85: 15 | B85: - | C85: Odstranitev kovinskih drežnikov (odstraniti opazljivo, da bo možna kasnejša ponovna uporaba!) | D85: m1 | E85: 25 | G85: =IF(ISBLANK(E85),"",IF(ISBLANK(F85),"",E85*F85))
B87: 1.3 | C87: Ostala preddela | G87: =IF(ISBLANK(E87),"",IF(ISBLANK(F87),"",E87*F87))
B89: 1.3.1 | C89: Omejitve prometa | G89: =IF(ISBLANK(E89),"",IF(ISBLANK(F89),"",E89*F89))
G90: =IF(ISBLANK(E90),"",IF(ISBLANK(F90),"",E90*F90))
A91: 16 | B91: 13 111 | C91: Zavarovanje gradbišča v času gradnje s polovično zaporo prometa in usmerjanjem s semaforji | D91: kompl | E91: 1 | G91: =IF(ISBLANK(E91),"",IF(ISBLANK(F91),"",E91*F91))
C93: Skupaj 1.0 | G93: =IF(SUM(G41:G92)=0,"",SUM(G41:G92))
B96: 2. | C96: ZEMELJSKA DELA IN TEMELJENJE | G96: =IF(ISBLANK(E96),"",IF(ISBLANK(F96),"",E96*F96))
B98: 2.1 | C98: Izkopi
A100: 1 | B100: 21 114 | C100: Površinski izkop plodne zemljine – 1. kategorije – strojno z nakladanjem | D100: m3 | E100: 0 | F100: 1.7 | G100: =IF(ISBLANK(E100),"",IF(ISBLANK(F100),"",E100*F100)) -> 0
A102: 2 | B102: 21 224 | C102: Široki izkop vezljive zemljine – 3. kategorije – strojno z nakladanjem (obst. voziščna konstrukcija) | D102: m3 | E102: 1480 | G102: =IF(ISBLANK(E102),"",IF(ISBLANK(F102),"",E102*F102))
A104: 3 | B104: 21 243 | C104: Široki izkop mehke kamnine – 4. kategorije z nakladanjem (50% potrebnega izkopa za KNM) | D104: m3 | E104: 662 | G104: =IF(ISBLANK(E104),"",IF(ISBLANK(F104),"",E104*F104))
A106: 4 | B106: 21 253 | C106: Široki izkop trde kamnine – 5. kategorije z nakladanjem | D106: m3 | E106: 420 | G106: =IF(ISBLANK(E106),"",IF(ISBLANK(F106),"",E106*F106))
A108: 5 | B108: 21 314 | C108: Izkop vezljive zemljine/zrnate kamnine – 3. kategorije za temelje, kanalske rove, prepuste, jaške in drenaže, širine do 1,0 m in globine do 1,0 m – strojno, planiranje dna ročno (ocena 40% izkopa) | D108: m3 | E108: 43 | G108: =IF(ISBLANK(E108),"",IF(ISBLANK(F108),"",E108*F108))
A110: 6 | B110: 21 315 | C110: Izkop mehke kamnine – 4. kategorije za temelje, kanalske rove, prepuste, jaške in drenaže, širine do 1,0 m in globine do 1,0 m (ocena 40% izkopa) | D110: m3 | E110: 43 | G110: =IF(ISBLANK(E110),"",IF(ISBLANK(F110),"",E110*F110))
A112: 7 | B112: 21 316 | C112: Izkop trde kamnine – 5. kategorije za temelje, kanalske rove, prepuste, jaške in drenaže, širine do 1,0 m in globine do 1,0 m (ocena 20% izkopa) | D112: m3 | E112: 22 | G112: =IF(ISBLANK(E112),"",IF(ISBLANK(F112),"",E112*F112))
B114: 2.2 | C114: Planum temeljnih tal | G114: =IF(ISBLANK(E114),"",IF(ISBLANK(F114),"",E114*F114))
A116: 8 | B116: 22 113 | C116: Ureditev planuma temeljnih tal zrnate kamnine – 3. kategorije (50%) | D116: m2 | E116: 1670 | G116: =IF(ISBLANK(E116),"",IF(ISBLANK(F116),"",E116*F116))
A118: 9 | B118: 22 114 | C118: Ureditev planuma temeljnih tal mehke kamnine – 4. kategorije (50%) | D118: m2 | E118: 1670 | G118: =IF(ISBLANK(E118),"",IF(ISBLANK(F118),"",E118*F118))
B120: 2.4 | C120: Nasipi, zasipi, klini, posteljica in glinasti naboj | G120: =IF(ISBLANK(E120),"",IF(ISBLANK(F120),"",E120*F120))
A122: 10 | B122: 24 112 | C122: Vgraditev nasipa iz zrnate kamnine – 3. kategorije (izkopni material) | D122: m3 | E122: 42 | G122: =IF(ISBLANK(E122),"",IF(ISBLANK(F122),"",E122*F122))
A124: 11 | B124: 24 212 | C124: Zasip z vezljivo zemljino – 3. kategorije - strojno z utrjevnjem po plasteh (drenaže, jaški, prepusti) | D124: m3 | E124: 66 | G124: =IF(ISBLANK(E124),"",IF(ISBLANK(F124),"",E124*F124))
A126: 12 | B126: 24 476 | C126: Izdelava posteljice iz drobljenih kamnitih zrn v debelini do 50 cm - KNM 100 (upoštevano 60% maksimalne količine) | D126: m3 | E126: 744 | G126: =IF(ISBLANK(E126),"",IF(ISBLANK(F126),"",E126*F126))
B128: 2.5 | C128: Brežine in zelenice | G128: =IF(ISBLANK(E128),"",IF(ISBLANK(F128),"",E128*F128))
A130: 13 | B130: 25 161 | C130: Izdelava biotorkreta z nastiljem na brežinah (ocena) | D130: m2 | E130: 320 | G130: =IF(ISBLANK(E130),"",IF(ISBLANK(F130),"",E130*F130))
A132: 14 | B132: 25 218 | C132: Zaščita brežine s težko sidrano mrežo, 1 sidro/2 m2 (ocena) | D132: m2 | E132: 640 | G132: =IF(ISBLANK(E132),"",IF(ISBLANK(F132),"",E132*F132))
A134: 15 | B134: 25 275 | C134: Zaščita brežine z lomljencem, vgrajenim v beton, po načrtu (iztoki iz prepustov) | D134: m2 | E134: 15 | G134: =IF(ISBLANK(E134),"",IF(ISBLANK(F134),"",E134*F134))
A136: 16 | B136: 25 275 | C136: Zaščita brežine z lomljencem, vgrajenim v beton, po načrtu (iztoki asfaltne mulde) | D136: m2 | E136: 6 | G136: =IF(ISBLANK(E136),"",IF(ISBLANK(F136),"",E136*F136))
A138: 17 | B138: 25 275 | C138: Zaščita brežine z lomljencem, vgrajenim v beton, (zavarovanje priključka gozdne vlake) | D138: m2 | E138: 10 | G138: =IF(ISBLANK(E138),"",IF(ISBLANK(F138),"",E138*F138))
A140: 18 | B140: - | C140: Izravnava in planiranje terena, debelina nasipa do 20cm | D140: m2 | E140: 195 | G140: =IF(ISBLANK(E140),"",IF(ISBLANK(F140),"",E140*F140))
B142: 2.9 | C142: Prevozi, razprostiranje in ureditev deponij materiala | G142: =IF(ISBLANK(E142),"",IF(ISBLANK(F142),"",E142*F142))
C143: Opomba : razprostiranje se obračuna v m3 raščenega izkopanega materiala
A144: 19 | B144: 29 117 | C144: Prevoz materiala na deponijo po izbiri izvajalca | D144: t | E144: =E146*1.6+E148*1.7+E150*1.8+E154 -> 4327.82 | G144: =IF(ISBLANK(E144),"",IF(ISBLANK(F144),"",E144*F144))
A146: 20 | B146: 29 134 | C146: Razprostiranje odvečne zrnate kamnine – 3. kategorije | D146: m3 | E146: =E102+E108-E124 -> 1457 | G146: =IF(ISBLANK(E146),"",IF(ISBLANK(F146),"",E146*F146))
A148: 21 | B148: 29 135 | C148: Razprostiranje odvečne mehke/trde kamnine – 4. kategorije | D148: m3 | E148: =E104+E110 -> 705 | G148: =IF(ISBLANK(E148),"",IF(ISBLANK(F148),"",E148*F148))
A150: 22 | B150: 29 136 | C150: Razprostiranje odvečne trde kamnine – 5. kategorije | D150: m3 | E150: =E106+E112 -> 442 | G150: =IF(ISBLANK(E150),"",IF(ISBLANK(F150),"",E150*F150))
A152: 23 | B152: 29 152 | C152: Odlaganje odpadne zmesi zemljine in kamnine (prispevek za deponijo) | D152: t | E152: =E146*1.6+E148*1.7+E150*1.8 -> 4325.3 | G152: =IF(ISBLANK(E152),"",IF(ISBLANK(F152),"",E152*F152))
A154: 24 | B154: 29 153 | C154: Odlaganje odpadnega asfalta na deponijo po izbiri izvajalca s stroški deponije | D154: t | E154: =E77*0.1*1.8 -> 2.52 | G154: =IF(ISBLANK(E154),"",IF(ISBLANK(F154),"",E154*F154))
C156: Skupaj 2.0 | G156: =IF(SUM(G96:G155)=0,"",SUM(G96:G155))
B159: 3. | C159: VOZIŠČNE KONSTRUKCIJE | G159: =IF(ISBLANK(E159),"",IF(ISBLANK(F159),"",E159*F159))
B161: 3.1 | C161: Nosilne plasti
B163: 3.1.1 | C163: Nevezane nosilne plasti
A165: 1 | B165: 31 131 | C165: Izdelava nevezane nosilne plasti enakomerno zrnatega drobljenca iz kamnine v debelini do 20 cm - tamponski drobljenec TD 32 | D165: m3 | E165: 781 | G165: =IF(ISBLANK(E165),"",IF(ISBLANK(F165),"",E165*F165))
B167: 3.1.3 | C167: Vezane zgornje nosilne in nosilnoobrabne plasti z bitumenskimi vezivi | G167: =IF(ISBLANK(E167),"",IF(ISBLANK(F167),"",E167*F167))
A169: 2 | B169: 31 582 | C169: Izdelava nosilne plasti bituminizirane zmesi AC 22 base B 70/100 A4 v debelini 6 cm (priključki) | D169: m2 | E169: 22 | G169: =IF(ISBLANK(E169),"",IF(ISBLANK(F169),"",E169*F169))
A171: 3 | B171: 31 642 | C171: Izdelava nosilne plasti bituminizirane zmesi AC 22 base B 50/70 A3 v debelini 8 cm | D171: m2 | E171: 2463 | G171: =IF(ISBLANK(E171),"",IF(ISBLANK(F171),"",E171*F171))
B173: 3.2 | C173: Obrabne plasti
B175: 3.2.1 | C175: Nevezane obrabne plasti | G175: =IF(ISBLANK(E175),"",IF(ISBLANK(F175),"",E175*F175))
A177: 4 | B177: 32 111 | C177: Izdelava nevezane (mehanično stabilizirane) obrabne plasti iz zmesi zrn drobljenca v debelini do 15 cm (priključki, izogibališča) | D177: m3 | E177: 0 | G177: =IF(ISBLANK(E177),"",IF(ISBLANK(F177),"",E177*F177))
B179: 3.2.2 | C179: Vezane asfaltne obrabne in zaporne plasti – bitumenski betoni | G179: =IF(ISBLANK(E179),"",IF(ISBLANK(F179),"",E179*F179))
A181: 5 | B181: 32 282 | C181: Izdelava obrabne in zaporne plasti bituminizirane zmesi AC 11 surf B 70/100 A4 v debelini 3,5 cm (priključki) | D181: m2 | E181: 22 | G181: =IF(ISBLANK(E181),"",IF(ISBLANK(F181),"",E181*F181))
A183: 6 | B183: 32 278 | C183: Izdelava obrabne in zaporne plasti bituminizirane zmesi AC 11 surf B 70/100 A3 v debelini 4 cm | D183: m2 | E183: 2463 | G183: =IF(ISBLANK(E183),"",IF(ISBLANK(F183),"",E183*F183))
B185: 3.5 | C185: Robni elementi vozišč | G185: =IF(ISBLANK(E185),"",IF(ISBLANK(F185),"",E185*F185))
B187: 3.6 | C187: Bankine | G187: =IF(ISBLANK(E187),"",IF(ISBLANK(F187),"",E187*F187))
A189: 7 | B189: 36 131 | C189: Izdelava bankine iz drobljenca, široke do 0,50 m | D189: m3 | E189: 25.2 | G189: =IF(ISBLANK(E189),"",IF(ISBLANK(F189),"",E189*F189))
A191: 8 | B191: 36 133 | C191: Izdelava bankine iz drobljenca, široke 0,76 do 1,00 m | D191: m3 | E191: 24.8 | G191: =IF(ISBLANK(E191),"",IF(ISBLANK(F191),"",E191*F191))
C193: Skupaj 3.0 | G193: =IF(SUM(G159:G191)=0,"",SUM(G159:G191))
B196: 4. | C196: ODVODNJAVANJE | G196: =IF(ISBLANK(E196),"",IF(ISBLANK(F196),"",E196*F196))
B198: 4.1 | C198: Površinsko odvodnjavanje
...

Sheet P298-rekapitulacija
A2: Številka projekta: P-298/14
A3: Številka načrta: N-298/14-C
A6: CESTA NA KOMUNALNO DEPONIJO MALA MEŽAKLA (LC 152160)
A7: Rekonstrukcija ceste od km 1+230 do km 1+930 v dolžini 700m
B16: REKAPITULACIJA
D18: 3.etapa
A19: 1.0 | B19: PREDDELA | D19: ='P298-3.etapa'!G28
A20: 2.0 | B20: ZEMELJSKA DELA IN TEMELJENJE | D20: ='P298-3.etapa'!G29
A21: 3.0 | B21: VOZIŠČNE KONSTRUKCIJE | D21: ='P298-3.etapa'!G30
A22: 4.0 | B22: ODVODNJAVANJE | D22: ='P298-3.etapa'!G31
A23: 5.0 | B23: GRADBENA IN OBRTNIŠKA DELA | D23: ='P298-3.etapa'!G32 -> 0
A24: 6.0 | B24: PROMETNA OPREMA | D24: ='P298-3.etapa'!G33
A25: 7.0 | B25: TUJE STORITVE | D25: ='P298-3.etapa'!G34 -> #VALUE!
B27: VSE SKUPAJ | D27: =IF(SUM(D19:D25)=0,"",SUM(D19:D25)) -> #VALUE!
