Workbook
Name Excel_BuiltIn_Print_Area: 'P298-3.etapa'!$A$1:$G$287
Name Excel_BuiltIn_Print_Area: 'P298-rekapitulacija'!$A$1:$D$28
Name Excel_BuiltIn_Print_Titles: 'P298-3.etapa'!$39:$40
Name Excel_BuiltIn_Print_Titles: 'P298-rekapitulacija'!#REF!

Sheet P298-3.etapa
B2: Številka projekta: P-298/14
B3: Številka načrta: N-298/14-C
B6: CESTA NA KOMUNALNO DEPONIJO MALA MEŽAKLA (LC 152160)
B7: Rekonstrukcija ceste od km 1+230 do km 1+930 v dolžini 700m
B10: PZI
B15: T.3.2.3 PROJEKTANTSKI PREDRAČUN
C18: - 3. etapa (km 1+545 - km 1+930)
C26: REKAPITULACIJA
B28: 1.0 | C28: PREDDELA | G28: =G93
B29: 2.0 | C29: ZEMELJSKA DELA IN TEMELJENJE | G29: =G156
B30: 3.0 | C30: VOZIŠČNE KONSTRUKCIJE | G30: =G193
B31: 4.0 | C31: ODVODNJAVANJE | G31: =G230
B32: 5.0 | C32: GRADBENA IN OBRTNIŠKA DELA | G32: =G236 -> 0
B33: 6.0 | C33: PROMETNA OPREMA | G33: =G273
B34: 7.0 | C34: TUJE STORITVE | G34: =G287 -> #VALUE!
C36: VSE SKUPAJ | G36: =IF(SUM(G28:G34)=0,"",SUM(G28:G34)) -> #VALUE!
A39: Zap.št. | B39: Šifra | C39: Opis del | D39: Enota | E39: Količina | F39: Cena | G39: Vrednost
B41: 1. | C41: PREDDELA
B43: 1.1 | C43: Geodetska dela
A45: 1 | B45: 11 122 | C45: Obnova in zavarovanje zakoličbe osi trase ostale javne ceste v gričevnatem terenu | D45: km | E45: 0.385 | G45: =IF(ISBLANK(E45),"",IF(ISBLANK(F45),"",E45*F45))
A47: 2 | B47: 11 222 | C47: Postavitev in zavarovanje prečnega profila ostale javne ceste v gričevnatem terenu | D47: kos | E47: 40 | G47: =IF(ISBLANK(E47),"",IF(ISBLANK(F47),"",E47*F47))
B49: 1.2 | C49: Čiščenje terena | G49: =IF(ISBLANK(E49),"",IF(ISBLANK(F49),"",E49*F49))
B51: 1.2.1 | C51: Odstranitev grmovja, dreves, vej in panjev | G51: =IF(ISBLANK(E51),"",IF(ISBLANK(F51),"",E51*F51))
C52: Opomba : v cenah/enoto zajeti vsi stroški odstranitve
C53: Opomba : pred posekom dreves obvezna odmera gozdarja
C54: Opomba : posekana drevesa so v lasti lastnikov zemljišč
A55: 3 | B55: 12 111 | C55: Odstranitev grmovja na redko porasli površini (do 50 % pokritega tlorisa) - ročno (ocena) | D55: m2 | E55: 40 | G55: =IF(ISBLANK(E55),"",IF(ISBLANK(F55),"",E55*F55))
A57: 4 | B57: 12 131 | C57: Odstranitev grmovja in dreves z debli premera do 10 cm ter vej na redko porasli površini - ročno (ocena) | D57: m2 | E57: 50 | G57: =IF(ISBLANK(E57),"",IF(ISBLANK(F57),"",E57*F57))
A59: 5 | B59: 12 151 | C59: Posek in odstranitev drevesa z deblom premera 11 do 30 cm ter odstranitev vej (ocena) | D59: kos | E59: 15 | G59: =IF(ISBLANK(E59),"",IF(ISBLANK(F59),"",E59*F59))
A61: 6 | B61: 12 152 | C61: Posek in odstranitev drevesa z deblom premera 31 do 50 cm ter odstranitev vej (ocena) | D61: kos | E61: 5 | G61: =IF(ISBLANK(E61),"",IF(ISBLANK(F61),"",E61*F61))
A63: 7 | B63: 12 163 | C63: Odstranitev panja s premerom 11 do 30 cm z odvozom na deponijo po izbiri izvajalca s stroški deponiranja | D63: kos | E63: 15 | G63: =IF(ISBLANK(E63),"",IF(ISBLANK(F63),"",E63*F63))
A65: 8 | B65: 12 165 | C65: Odstranitev panja s premerom 31 do 50 cm z odvozom na deponijo po izbiri izvajalca s stroški deponiranja | D65: kos | E65: 5 | G65: =IF(ISBLANK(E65),"",IF(ISBLANK(F65),"",E65*F65))
B67: 1.2.2 | C67: Odstranitev prometne signalizacije in opreme | G67: =IF(ISBLANK(E67),"",IF(ISBLANK(F67),"",E67*F67))
A69: 9 | B69: 12 211 | C69: Demontaža prometnega znaka na enem podstavku | D69: kos | E69: 0 | G69: =IF(ISBLANK(E69),"",IF(ISBLANK(F69),"",E69*F69))
A71: 10 | B71: 12 212 | C71: Demontaža prometnega znaka na dveh podstavkih | D71: kos | E71: 0 | G71: =IF(ISBLANK(E71),"",IF(ISBLANK(F71),"",E71*F71))
C72: Opomba : v cenah/enoto zajeta pazljiva odstranitev varnostne ograje, ograja ostane v lasti naročnika
A73: 11 | B73: 12 231 | C73: Demontaža jeklene varnostne ograje | D73: m1 | E73: 111 | G73: =IF(ISBLANK(E73),"",IF(ISBLANK(F73),"",E73*F73))
B75: 1.2.3 | C75: Porušitev in odstranitev voziščnih konstrukcij | G75: =IF(ISBLANK(E75),"",IF(ISBLANK(F75),"",E75*F75))
A77: 12 | B77: 12 322 | C77: Porušitev in odstranitev asfaltne plasti v debelini 6 do 10 cm | D77: m2 | E77: 14 | G77: =IF(ISBLANK(E77),"",IF(ISBLANK(F77),"",E77*F77))
A79: 13 | B79: 12 331 | C79: Porušitev in odstranitev cementnobetonske krovne plasti v debelini do 15 cm (betonirane mulde) | D79: m3 | E79: 0 | G79: =IF(ISBLANK(E79),"",IF(ISBLANK(F79),"",E79*F79))
...

Sheet P298-rekapitulacija
A2: Številka projekta: P-298/14
A3: Številka načrta: N-298/14-C
A6: CESTA NA KOMUNALNO DEPONIJO MALA MEŽAKLA (LC 152160)
A7: Rekonstrukcija ceste od km 1+230 do km 1+930 v dolžini 700m
B16: REKAPITULACIJA
D18: 3.etapa
A19: 1.0 | B19: PREDDELA | D19: ='P298-3.etapa'!G28
A20: 2.0 | B20: ZEMELJSKA DELA IN TEMELJENJE | D20: ='P298-3.etapa'!G29
A21: 3.0 | B21: VOZIŠČNE KONSTRUKCIJE | D21: ='P298-3.etapa'!G30
A22: 4.0 | B22: ODVODNJAVANJE | D22: ='P298-3.etapa'!G31
A23: 5.0 | B23: GRADBENA IN OBRTNIŠKA DELA | D23: ='P298-3.etapa'!G32 -> 0
A24: 6.0 | B24: PROMETNA OPREMA | D24: ='P298-3.etapa'!G33
A25: 7.0 | B25: TUJE STORITVE | D25: ='P298-3.etapa'!G34 -> #VALUE!
B27: VSE SKUPAJ | D27: =IF(SUM(D19:D25)=0,"",SUM(D19:D25)) -> #VALUE!
